Workbook
Name Billing: List!$B$2:$B$4
Name ContactType: List!$E$2:$E$13
Name States: List!#REF!

Sheet version
A1: 1

Sheet Contacts Data
A1: Contact Type | B1: First Name | C1: Last Name | D1: Company (Entity) | E1: Contact ID | F1: Work Phone | G1: Cell Phone | H1: Email Address | I1: Address1 | J1: Address2 | K1: City | L1: State | M1: Zip | N1: Country | O1: Notes | P1: Contact-Identifier | Q1: Display-Name | R1: Home-Phone | S1: Fax | T1: Active
A2: Client | B2: Michael | C2: Carrey | D2: CosmoLex | E2: 1111 | F2: 201-999-7777 | G2: 201-999-5555 | H2: mich123@cosmolex.com | I2: 1 Main street | J2: A 101 | K2: Sarasota | L2: FL | M2: 34239 | N2: USA | O2: Reachable only during weekends. | P2: 1111 | Q2: Michael Carrey | R2: 201-999-8888 | T2: Active
A3: Client | B3: Jane | C3: Smith | D3: CosmoLex | E3: 1112 | F3: 201-999-6666 | G3: 201-999-4444 | H3: jane@cosmolex.com | I3: 2 Main Street | K3: Tampa | L3: FL | M3: 33602 | N3: USA | P3: 1112 | Q3: Jane Smith | R3: 201-999-8889 | S3: 201-333-4444 | T3: Active
A4: Opposing Counsel | B4: Larry | C4: Taylor | E4: 1113 | P4: 1113 | Q4: Larry Taylor | T4: Active
A5: Client | B5: John | C5: Doe | D5: CosmoLex | E5: 1114 | L5: FL | N5: USA | P5: 1114 | Q5: John Doe | T5: Active

Sheet Matter Data
A1: First Name | B1: Last Name | C1: Matter Name | D1: Matter Open Date | E1: Trust Bank | F1: Matter Owner | G1: Billing Method | H1: Matter File # | I1: Status | J1: Notes | K1: Contact-Identifier | L1: Matter-Identifier | M1: Taxable | N1: Area-Of-Law | O1: E-Billing-Client-Matter-Id
A2: Michael | B2: Carrey | C2: First Import Matter | D2: 43009 | E2: Trust Bank | F2: Your matter owner name | G2: Hourly | H2: 100-001 | I2: Active | K2: 1111 | L2: 1008 | N2: Estate Planning
A3: Jane | B3: Smith | C3: Second Import Matter | D3: 43040 | E3: Trust Bank | F3: Your matter owner name | G3: Fixed Fee | H3: 101-001 | I3: Active | J3: This is a fixed fee matter. | K3: 1112 | L3: 1009
A4: John | B4: Doe | C4: Third Import Matter | D4: 43070 | E4: Trust Bank | F4: Your matter owner name | G4: Hourly | H4: 102-001 | I4: Active | K4: 1114 | L4: 1010
G5: =IF(LEN($A5)>0,"Hourly","")
G6: =IF(LEN($A6)>0,"Hourly","")
G7: =IF(LEN($A7)>0,"Hourly","")
G8: =IF(LEN($A8)>0,"Hourly","")
G9: =IF(LEN($A9)>0,"Hourly","")
G10: =IF(LEN($A10)>0,"Hourly","")
G11: =IF(LEN($A11)>0,"Hourly","")
G12: =IF(LEN($A12)>0,"Hourly","")
G13: =IF(LEN($A13)>0,"Hourly","")
G14: =IF(LEN($A14)>0,"Hourly","")
G15: =IF(LEN($A15)>0,"Hourly","")
G16: =IF(LEN($A16)>0,"Hourly","")
... G4433: =IF(LEN($A4433)>0,"Hourly","")

Sheet Relation Data
A1: Matter-Identifier | B1: Contact-Identifier | C1: Relation-Type
A2: 1008 | B2: 1112 | C2: Witness
A3: 1008 | B3: 1113 | C3: Counsel

Sheet Notes Data
A1: Matter-Identifier | B1: Date-Time | C1: User-Name | D1: Subject | E1: Note
A2: 1009 | B2: 43070 | C2: yourusername@example.com | D2: Left a voicemail | E2: Left a voicemail to the client conveying important information.
A3: 1009 | B3: 43040 | C3: yourusername@example.com | D3: New witness | E3: Revealed in the interview one more witness to the matter.

Sheet Calendar
A1: Matter-Identifier | B1: Event-Name | C1: Description | D1: From-DateTime | E1: To-DateTime | F1: All-Day | G1: Private | H1: Billable | I1: Location | J1: Owner-User-Name | K1: Created-By-User-Name | L1: Invitee-List | M1: Event-Identifier
A2: 1008 | B2: Court Hearing | C2: This is the second hearing for this matter | D2: 43039.417 | E2: 43039.479 | F2: No | G2: No | H2: Billable | I2: Trenton Court | J2: yourusername@example.com | K2: yourusername@example.com | M2: 2001
A3: 1009 | B3: Introduction Meeting | D3: 42979.333 | E3: 42979.375 | F3: No | G3: No | H3: Billable | J3: yourusername@example.com | K3: yourusername@example.com | M3: 2002

Sheet Task
A1: Matter-Identifier | B1: Task-Name | C1: Description | D1: Start-Date | E1: Due-Date | F1: Priority | G1: Private | H1: Billable | I1: Owner-User-Name | J1: Assigned-To-User-Name | K1: Task-Identifier | L1: Task-Status
A2: 1009 | B2: Follow-up for papers | D2: 43039.417 | E2: 43039.479 | F2: Medium | H2: Billable | I2: yourusername@example.com | J2: yourusername@example.com | K2: 51001 | L2: In Progress
A3: 1008 | B3: Court Hearing Prep | D3: 42979.333 | E3: 42979.375 | F3: High | H3: Billable | I3: yourusername@example.com | J3: yourusername@example.com | K3: 51002 | L3: In Progress

Sheet Payee Data
A1: First-Name | B1: Last-Name | C1: Print-As | D1: Phone | E1: EmailAddress | F1: Address1 | G1: Address2 | H1: City | I1: State | J1: Zip | K1: Notes | L1: 1099-Eligible | M1: TIN

Sheet 1. Data Entry Instructions
B1: CONTACT DATA ENTRY INSTRUCTIONS (Version 17 Dated: 06/15/2016)
A2: 1 | B2: DO NOT CHANGE ANY COLUMN HEADINGS, ELSE DATA IMPORT WILL FAIL.
A3: 2 | B3: First fill-in "Contacts Data" sheet (To import your clients and other contacts). Then fill-in "Matter Data" sheet (To import Matter information). Follow field-by-field guideline listed below.
B4: NOTE: Even if your main obtective is to import matters, the contact tab must have atleast First/Last Name fields competed.
A5: "CONTACT DATA" FIELDS | C5: Field Limit | D5: Notes
A6: Contact Type | C6: 20 | D6: For Clients, you can leave it blank. Else, select Contact Type from Drop-down list. If any Contact Name is used in Matter Data sheet, it will always be imported as "Client" irrespective of what you select here.
A7: First Name* + Last Name | C7: 128 | D7: This is a required field. If you don’t have separate First & Last Names, just put the value in First Name Column as “John Smith” (not as “Smith, John”)
A8: Company (Entity) | C8: 128 | D8: If your client is an entity, enter the entity name. Else leave it blank.
A9: Contact ID | C9: 20
A10: Work Phone | C10: 20
A11: Cell Phone | C11: 20
A12: Email | C12: 60
A13: Address1 | C13: 128
A14: Address2 | C14: 60
A15: City | C15: 30
A16: State | D16: Values as "NJ" or "New Jersey"
A17: Zip | C17: 16
A18: Country | C18: 64 | D18: Valid Country Name like United States Of America, Canada, etc. Any country defined in the Contact section in CosmoLex. You can get the full list of available country from there.
A19: Notes | C19: 1024
A20: Contact-Identifier | C20: 255 | D20: If you have a unique identifier for each contact, enter it here. This is optional field but creates better accuracy while importing the data. You may or may not have the access to this field depending on the Software data
A21: "MATTER DATA" FIELDS | C21: Field Limit | D21: Notes
A22: First Name + Last Name | C22: 128 | D22: For each matter being created, "First Name, Last Name" must be identical to what is listed on the Client tab.
A23: Matter Name | C23: 120 | D23: This is your internal matter name such as "Bankruptcy", "Real Estate", "Collection", "Divorce" MUST be unique per client.
A24: Matter Date | C24: See Notes | D24: Must be Date in format MM/DD/YYYY. If left blank, it would be set to date when data is imported.
A25: Trust Bank | C25: See Notes | D25: Leave it blank unless you have different banks for different matters. If you do fill-in, exact bank name (entered as bankname-type) must already be in the system prior to import.
A26: Matter Owner | C26: See Notes | D26: Leave it blank unless you have different matter owners for different matters. If you do fill-in, exact matter owners must already be in the system prior to import.
A27: Billing Method | C27: See Notes | D27: Blank Value would be considered "Hourly". Choose from : "Hourly", "Fixed Fee", or "Contingency". Do not type in any other value.
A28: Matter File # | C28: 40 | D28: This is your internal file number. Could be alpha-numeric.
A29: Status | C29: See Notes | D29: Chose from: Active, Inactive. Blank would be considered Active. Do not type in any other value.
A30: Notes | C30: 1024 | D30: Description or Notes associated with this matter.
A31: Contact-Identifier | C31: 255 | D31: If you have a unique identifier for each contact. Value on this field must exist and identical to the value in the Contact Data Sheet. This is optional field but creates better accuracy while importing the data. You may or may not have the access to this field depending on the Software data
A32: Matter-Identifier | C32: 255 | D32: If you have a unique identifier for each matter, enter it here. This is optional field but creates better accuracy while importing the data. You may or may not have the access to this field depending on the Software data
B33: Taxable | C33: Boolean | D33: Yes/No, True/False If Matter is Taxable
A34: Area-Of-Law | C34: 64 | D34: This will be of format {code}-{description}. For example 11-Aboriginal Law. When importing this, system will check if Area of law with this format already exists, if not it will create a new entry and associate with the matter or use the existing entry for mapping. This is an optional field but required by Canadian firms
A35: E-Billing-Client-Matter-Id | C35: 32 | D35: This is the Client Matter Id for e-billing purpose. If E-Billing is enabled for this matter, this would the identifier used for Client Matter Id. Note, that setting this value will not turn the E-Billing setting ON for the matter. This still needs to be done manually by the once data import is completed.
A36: "MATTER Relation" FIELDS | C36: Field Limit | D36: Notes
A37: Matter-Identifier | C37: 255 | D37: Unique Identifier for the matter which is designated in the Matter Data Tab
A38: Contact-Identifier | C38: 255 | D38: Unique Identifier for the Contact which is designated in the Contacts Data Tab
A39: Relation-Type | C39: 64 | D39: Relation Type
A40: "MATTER Notes" FIELDS | C40: Field Limit | D40: Notes
A41: Matter-Identifier | C41: 255 | D41: Unique Identifier for the matter which is designated in the Matter Data Tab
A42: Date-Time | C42: 32 | D42: Date time in Date or Date Time Format
A43: User-Name | C43: 64 | D43: User Name as Exist in CosmoLex (Not the user First Name and Last Name)
A44: Subject | C44: 255 | D44: Subject for the Note
A45: Note | C45: 1024 | D45: Note
A46: "Calendar" FIELDS | C46: Field Limit | D46: Notes
A47: Matter-Identifier | C47: 256 | D47: Unique Identifier for the matter which is designated in the Matter Data Tab - Its Required if event is tied to the matter
A48: Event-Name | C48: 256 | D48: Required - Event Name or Title
A49: Description | C49: 4096 | D49: Optional - Event Description
A50: From-DateTime | C50: Date-Time | D50: Required - UTC Date Time, Format=> yyyy-MM-dd HH:mm:ss
A51: To-DateTime | C51: Date-Time | D51: Required - UTC Date Time, Format=> yyyy-MM-dd HH:mm:ss
A52: All-Day | C52: Boolean | D52: Optional - True Or False, Yes Or No, 1 Or 0 (If All Day, From-DateTime and To-DateTime can only contain the Date Part and Time Part is not required
A53: Private | C53: Boolean | D53: Optional - Default is false
A54: Billable | C54: Boolean | D54: Optional - Default is false.This marks event in CosmoLex as Billable and event will be shown in Money finder till its billed
A55: Location | C55: 256 | D55: Event Location
A56: Owner-User-Name | C56: 128 | D56: Optional - User name as exactly appear in CosmoLex - This is the user whom this event belongs to. If not supplied logged in user at the time of import will be used
A57: Created-By-User-Name | C57: 128 | D57: Optional - User name as exactly appear in CosmoLex - This is the user who created the event in case different then the Owner Or Owner will be used
A58: Invitee-List | C58: 256 | D58: Optional - Comma separated values of email addresses
A59: Event-Identifier | C59: 256 | D59: Any unique identifier for this event if available. This may be useful when referencing back to the old system
A60: "Task" FIELDS | C60: Field Limit | D60: Notes
A61: Matter-Identifier | C61: 256 | D61: Unique Identifier for the matter which is designated in the Matter Data Tab - Its Required if task is tied to the matter
A62: Task-Name | C62: 128 | D62: Required
A63: Description | C63: 4096 | D63: Optional
A64: Start-Date | C64: Date | D64: Optional - Date of format yyyy-MM-DD
A65: Due-Date | C65: Date | D65: Optional - Date of format yyyy-MM-DD
A66: Priority | C66: 16 | D66: Optional - Low, Medium, High
A67: Private | C67: Boolean | D67: Optional - True Or False, Yes Or No, 1 Or 0
A68: Billable | D68: Optional - Default is false.This marks task in CosmoLex as Billable and task will be shown in Money finder till its billed
A69: Owner-User-Name | D69: Optional- User name as exactly appear in CosmoLex - This is the user who created the task
A70: Assigned-To-User-Name | D70: Optional - User name as exactly appear in CosmoLex - This is the user whom this task is assigned to
A71: Task-Identifier | D71: Optional- Any unique identifier for this Task if available. This may be useful when referencing back to the old system
A72: Task-Status | B72: Status | C72: 16 | D72: Optional-If blank it would be marked as completed. Possible values are 'In Progress', 'Not Started', 'Done'. Any value other than this would be treated as Done

Sheet 2. Data Import Instructions
B1: DATA IMPORT INSTRUCTIONS
A2: 1 | B2: Login to your account at cosmolex (law.cosmolex.com)
A3: 2 | B3: Press"Shift" key and click on the "Question" icon on top rigt corner. An import screen will be displayed. Browse & Select this Excel file.
A4: 3 | B4: Review your data. Various Warnings and Errors (if any) will be displayed. Errors must be addressed by you, warnings can be fixed by the system. Use "Auto-Fix", "Find & Replace" etc to clean/finalize your data.
A5: 4 | B5: Once there are no remaining errors or warnings, you can click on "Complete Import". Once import is complete, you will be provided with an exception report listing any errors discovered. This report can then be downloaded for your recods.

Sheet Validations
A1: Contact Type | B1: Name | C1: Contact ID | D1: Work Phone | E1: Cell Phone | F1: Email | G1: Address1 | H1: Address2 | I1: City | J1: State | K1: Zip | L1: Company | M1: Notes | P1: Name | Q1: Matter Name | R1: File # | S1: DON’T EDIT COLUMN | T1: DON’T EDIT COLUMN | U1: DON’T EDIT COLUMN | V1: DON’T EDIT COLUMN | W1: DON’T EDIT COLUMN | X1: DON’T EDIT COLUMN | Y1: DON’T EDIT COLUMN
A2: =IF(LEN('Contacts Data'!#REF!)>20,LEN('Contacts Data'!#REF!),"") -> #REF! | B2: =IF(LEN('Contacts Data'!#REF!)>0, LEN('Contacts Data'!#REF!) + LEN('Contacts Data'!#REF!), "") -> #REF! | C2: =IF(LEN('Contacts Data'!#REF!)>20,LEN('Contacts Data'!#REF!),"") -> #REF! | D2: =IF(LEN('Contacts Data'!#REF!)>20,LEN('Contacts Data'!#REF!),"") -> #REF! | E2: =IF(LEN('Contacts Data'!#REF!)>20,LEN('Contacts Data'!#REF!),"") -> #REF! | F2: =IF(LEN('Contacts Data'!#REF!)>60,LEN('Contacts Data'!#REF!),"") -> #REF! | G2: =IF(LEN('Contacts Data'!#REF!)>128,LEN('Contacts Data'!#REF!),"") -> #REF! | H2: =IF(LEN('Contacts Data'!#REF!)>60,LEN('Contacts Data'!#REF!),"") -> #REF! | I2: =IF(LEN('Contacts Data'!#REF!)>30,LEN('Contacts Data'!#REF!),"") -> #REF! | J2: =IF(LEN('Contacts Data'!#REF!)>2,LEN('Contacts Data'!#REF!),"") -> #REF! | K2: =IF(LEN('Contacts Data'!#REF!)>16,LEN('Contacts Data'!#REF!),"") -> #REF! | L2: =IF(LEN('Contacts Data'!#REF!)>128,LEN('Contacts Data'!#REF!),"") -> #REF! | M2: =IF(LEN('Contacts Data'!#REF!)>1024,LEN('Contacts Data'!#REF!),"") -> #REF! | P2: =IF(LEN('Matter Data'!#REF!)>0,LEN('Matter Data'!#REF!)+LEN('Matter Data'!#REF!),"") -> #REF! | Q2: =IF(LEN('Matter Data'!#REF!)>80,LEN('Matter Data'!#REF!),"") -> #REF! | R2: =IF(LEN('Matter Data'!#REF!)>40,LEN('Matter Data'!#REF!),"") -> #REF! | S2: =IF(LEN('Matter Data'!#REF!)>0,CONCATENATE('Matter Data'!#REF!,'Matter Data'!#REF!,'Matter Data'!#REF!)) -> #REF! | T2: =IF(LEN('Matter Data'!#REF!)>0,COUNTIF($S$2:$S$5001,CONCATENATE('Matter Data'!#REF!,'Matter Data'!#REF!,'Matter Data'!#REF!)),0) -> #REF! | U2: =IF(LEN('Contacts Data'!#REF!)>0,'Contacts Data'!#REF!,"") -> #REF! | V2: =IF(LEN('Contacts Data'!#REF!)>0,'Contacts Data'!#REF!,"") -> #REF! | W2: =CONCATENATE(U2, " ", V2, " ", 'Contacts Data'!#REF!) -> #REF! | X2: =CONCATENATE('Matter Data'!#REF!, " ", 'Matter Data'!#REF!, " ", "Client") -> #REF! | Y2: =IFERROR(VLOOKUP(X2,$W$2:$W$5001,1,FALSE),"")
A3: =IF(LEN('Contacts Data'!#REF!)>20,LEN('Contacts Data'!#REF!),"") -> #REF! | B3: =IF(LEN('Contacts Data'!#REF!)>0, LEN('Contacts Data'!#REF!) + LEN('Contacts Data'!#REF!), "") -> #REF! | C3: =IF(LEN('Contacts Data'!#REF!)>20,LEN('Contacts Data'!#REF!),"") -> #REF! | D3: =IF(LEN('Contacts Data'!#REF!)>20,LEN('Contacts Data'!#REF!),"") -> #REF! | E3: =IF(LEN('Contacts Data'!#REF!)>20,LEN('Contacts Data'!#REF!),"") -> #REF! | F3: =IF(LEN('Contacts Data'!#REF!)>60,LEN('Contacts Data'!#REF!),"") -> #REF! | G3: =IF(LEN('Contacts Data'!#REF!)>128,LEN('Contacts Data'!#REF!),"") -> #REF! | H3: =IF(LEN('Contacts Data'!#REF!)>60,LEN('Contacts Data'!#REF!),"") -> #REF! | I3: =IF(LEN('Contacts Data'!#REF!)>30,LEN('Contacts Data'!#REF!),"") -> #REF! | J3: =IF(LEN('Contacts Data'!#REF!)>2,LEN('Contacts Data'!#REF!),"") -> #REF! | K3: =IF(LEN('Contacts Data'!#REF!)>16,LEN('Contacts Data'!#REF!),"") -> #REF! | L3: =IF(LEN('Contacts Data'!#REF!)>128,LEN('Contacts Data'!#REF!),"") -> #REF! | M3: =IF(LEN('Contacts Data'!#REF!)>1024,LEN('Contacts Data'!#REF!),"") -> #REF! | P3: =IF(LEN('Matter Data'!#REF!)>0,LEN('Matter Data'!#REF!)+LEN('Matter Data'!#REF!),"") -> #REF! | Q3: =IF(LEN('Matter Data'!#REF!)>80,LEN('Matter Data'!#REF!),"") -> #REF! | R3: =IF(LEN('Matter Data'!#REF!)>40,LEN('Matter Data'!#REF!),"") -> #REF! | S3: =IF(LEN('Matter Data'!#REF!)>0,CONCATENATE('Matter Data'!#REF!,'Matter Data'!#REF!,'Matter Data'!#REF!)) -> #REF! | T3: =IF(LEN('Matter Data'!#REF!)>0,COUNTIF($S$2:$S$5001,CONCATENATE('Matter Data'!#REF!,'Matter Data'!#REF!,'Matter Data'!#REF!)),0) -> #REF! | U3: =IF(LEN('Contacts Data'!#REF!)>0,'Contacts Data'!#REF!,"") -> #REF! | V3: =IF(LEN('Contacts Data'!#REF!)>0,'Contacts Data'!#REF!,"") -> #REF! | W3: =CONCATENATE(U3, " ", V3, " ", 'Contacts Data'!#REF!) -> #REF! | X3: =CONCATENATE('Matter Data'!#REF!, " ", 'Matter Data'!#REF!, " ", "Client") -> #REF! | Y3: =IFERROR(VLOOKUP(X3,$W$2:$W$5001,1,FALSE),"")
A4: =IF(LEN('Contacts Data'!#REF!)>20,LEN('Contacts Data'!#REF!),"") -> #REF! | B4: =IF(LEN('Contacts Data'!#REF!)>0, LEN('Contacts Data'!#REF!) + LEN('Contacts Data'!#REF!), "") -> #REF! | C4: =IF(LEN('Contacts Data'!#REF!)>20,LEN('Contacts Data'!#REF!),"") -> #REF! | D4: =IF(LEN('Contacts Data'!#REF!)>20,LEN('Contacts Data'!#REF!),"") -> #REF! | E4: =IF(LEN('Contacts Data'!#REF!)>20,LEN('Contacts Data'!#REF!),"") -> #REF! | F4: =IF(LEN('Contacts Data'!#REF!)>60,LEN('Contacts Data'!#REF!),"") -> #REF! | G4: =IF(LEN('Contacts Data'!#REF!)>128,LEN('Contacts Data'!#REF!),"") -> #REF! | H4: =IF(LEN('Contacts Data'!#REF!)>60,LEN('Contacts Data'!#REF!),"") -> #REF! | I4: =IF(LEN('Contacts Data'!#REF!)>30,LEN('Contacts Data'!#REF!),"") -> #REF! | J4: =IF(LEN('Contacts Data'!#REF!)>2,LEN('Contacts Data'!#REF!),"") -> #REF! | K4: =IF(LEN('Contacts Data'!#REF!)>16,LEN('Contacts Data'!#REF!),"") -> #REF! | L4: =IF(LEN('Contacts Data'!#REF!)>128,LEN('Contacts Data'!#REF!),"") -> #REF! | M4: =IF(LEN('Contacts Data'!#REF!)>1024,LEN('Contacts Data'!#REF!),"") -> #REF! | P4: =IF(LEN('Matter Data'!#REF!)>0,LEN('Matter Data'!#REF!)+LEN('Matter Data'!#REF!),"") -> #REF! | Q4: =IF(LEN('Matter Data'!#REF!)>80,LEN('Matter Data'!#REF!),"") -> #REF! | R4: =IF(LEN('Matter Data'!#REF!)>40,LEN('Matter Data'!#REF!),"") -> #REF! | S4: =IF(LEN('Matter Data'!#REF!)>0,CONCATENATE('Matter Data'!#REF!,'Matter Data'!#REF!,'Matter Data'!#REF!)) -> #REF! | T4: =IF(LEN('Matter Data'!#REF!)>0,COUNTIF($S$2:$S$5001,CONCATENATE('Matter Data'!#REF!,'Matter Data'!#REF!,'Matter Data'!#REF!)),0) -> #REF! | U4: =IF(LEN('Contacts Data'!#REF!)>0,'Contacts Data'!#REF!,"") -> #REF! | V4: =IF(LEN('Contacts Data'!#REF!)>0,'Contacts Data'!#REF!,"") -> #REF! | W4: =CONCATENATE(U4, " ", V4, " ", 'Contacts Data'!#REF!) -> #REF! | X4: =CONCATENATE('Matter Data'!#REF!, " ", 'Matter Data'!#REF!, " ", "Client") -> #REF! | Y4: =IFERROR(VLOOKUP(X4,$W$2:$W$5001,1,FALSE),"")
A5: =IF(LEN('Contacts Data'!#REF!)>20,LEN('Contacts Data'!#REF!),"") -> #REF! | B5: =IF(LEN('Contacts Data'!#REF!)>0, LEN('Contacts Data'!#REF!) + LEN('Contacts Data'!#REF!), "") -> #REF! | C5: =IF(LEN('Contacts Data'!#REF!)>20,LEN('Contacts Data'!#REF!),"") -> #REF! | D5: =IF(LEN('Contacts Data'!#REF!)>20,LEN('Contacts Data'!#REF!),"") -> #REF! | E5: =IF(LEN('Contacts Data'!#REF!)>20,LEN('Contacts Data'!#REF!),"") -> #REF! | F5: =IF(LEN('Contacts Data'!#REF!)>60,LEN('Contacts Data'!#REF!),"") -> #REF! | G5: =IF(LEN('Contacts Data'!#REF!)>128,LEN('Contacts Data'!#REF!),"") -> #REF! | H5: =IF(LEN('Contacts Data'!#REF!)>60,LEN('Contacts Data'!#REF!),"") -> #REF! | I5: =IF(LEN('Contacts Data'!#REF!)>30,LEN('Contacts Data'!#REF!),"") -> #REF! | J5: =IF(LEN('Contacts Data'!#REF!)>2,LEN('Contacts Data'!#REF!),"") -> #REF! | K5: =IF(LEN('Contacts Data'!#REF!)>16,LEN('Contacts Data'!#REF!),"") -> #REF! | L5: =IF(LEN('Contacts Data'!#REF!)>128,LEN('Contacts Data'!#REF!),"") -> #REF! | M5: =IF(LEN('Contacts Data'!#REF!)>1024,LEN('Contacts Data'!#REF!),"") -> #REF! | P5: =IF(LEN('Matter Data'!#REF!)>0,LEN('Matter Data'!#REF!)+LEN('Matter Data'!#REF!),"") -> #REF! | Q5: =IF(LEN('Matter Data'!#REF!)>80,LEN('Matter Data'!#REF!),"") -> #REF! | R5: =IF(LEN('Matter Data'!#REF!)>40,LEN('Matter Data'!#REF!),"") -> #REF! | S5: =IF(LEN('Matter Data'!#REF!)>0,CONCATENATE('Matter Data'!#REF!,'Matter Data'!#REF!,'Matter Data'!#REF!)) -> #REF! | T5: =IF(LEN('Matter Data'!#REF!)>0,COUNTIF($S$2:$S$5001,CONCATENATE('Matter Data'!#REF!,'Matter Data'!#REF!,'Matter Data'!#REF!)),0) -> #REF! | U5: =IF(LEN('Contacts Data'!#REF!)>0,'Contacts Data'!#REF!,"") -> #REF! | V5: =IF(LEN('Contacts Data'!#REF!)>0,'Contacts Data'!#REF!,"") -> #REF! | W5: =CONCATENATE(U5, " ", V5, " ", 'Contacts Data'!#REF!) -> #REF! | X5: =CONCATENATE('Matter Data'!#REF!, " ", 'Matter Data'!#REF!, " ", "Client") -> #REF! | Y5: =IFERROR(VLOOKUP(X5,$W$2:$W$5001,1,FALSE),"")
A6: =IF(LEN('Contacts Data'!#REF!)>20,LEN('Contacts Data'!#REF!),"") -> #REF! | B6: =IF(LEN('Contacts Data'!#REF!)>0, LEN('Contacts Data'!#REF!) + LEN('Contacts Data'!#REF!), "") -> #REF! | C6: =IF(LEN('Contacts Data'!#REF!)>20,LEN('Contacts Data'!#REF!),"") -> #REF! | D6: =IF(LEN('Contacts Data'!#REF!)>20,LEN('Contacts Data'!#REF!),"") -> #REF! | E6: =IF(LEN('Contacts Data'!#REF!)>20,LEN('Contacts Data'!#REF!),"") -> #REF! | F6: =IF(LEN('Contacts Data'!#REF!)>60,LEN('Contacts Data'!#REF!),"") -> #REF! | G6: =IF(LEN('Contacts Data'!#REF!)>128,LEN('Contacts Data'!#REF!),"") -> #REF! | H6: =IF(LEN('Contacts Data'!#REF!)>60,LEN('Contacts Data'!#REF!),"") -> #REF! | I6: =IF(LEN('Contacts Data'!#REF!)>30,LEN('Contacts Data'!#REF!),"") -> #REF! | J6: =IF(LEN('Contacts Data'!#REF!)>2,LEN('Contacts Data'!#REF!),"") -> #REF! | K6: =IF(LEN('Contacts Data'!#REF!)>16,LEN('Contacts Data'!#REF!),"") -> #REF! | L6: =IF(LEN('Contacts Data'!#REF!)>128,LEN('Contacts Data'!#REF!),"") -> #REF! | M6: =IF(LEN('Contacts Data'!#REF!)>1024,LEN('Contacts Data'!#REF!),"") -> #REF! | P6: =IF(LEN('Matter Data'!#REF!)>0,LEN('Matter Data'!#REF!)+LEN('Matter Data'!#REF!),"") -> #REF! | Q6: =IF(LEN('Matter Data'!#REF!)>80,LEN('Matter Data'!#REF!),"") -> #REF! | R6: =IF(LEN('Matter Data'!#REF!)>40,LEN('Matter Data'!#REF!),"") -> #REF! | S6: =IF(LEN('Matter Data'!#REF!)>0,CONCATENATE('Matter Data'!#REF!,'Matter Data'!#REF!,'Matter Data'!#REF!)) -> #REF! | T6: =IF(LEN('Matter Data'!#REF!)>0,COUNTIF($S$2:$S$5001,CONCATENATE('Matter Data'!#REF!,'Matter Data'!#REF!,'Matter Data'!#REF!)),0) -> #REF! | U6: =IF(LEN('Contacts Data'!#REF!)>0,'Contacts Data'!#REF!,"") -> #REF! | V6: =IF(LEN('Contacts Data'!#REF!)>0,'Contacts Data'!#REF!,"") -> #REF! | W6: =CONCATENATE(U6, " ", V6, " ", 'Contacts Data'!#REF!) -> #REF! | X6: =CONCATENATE('Matter Data'!#REF!, " ", 'Matter Data'!#REF!, " ", "Client") -> #REF! | Y6: =IFERROR(VLOOKUP(X6,$W$2:$W$5001,1,FALSE),"")
A7: =IF(LEN('Contacts Data'!#REF!)>20,LEN('Contacts Data'!#REF!),"") -> #REF! | B7: =IF(LEN('Contacts Data'!#REF!)>0, LEN('Contacts Data'!#REF!) + LEN('Contacts Data'!#REF!), "") -> #REF! | C7: =IF(LEN('Contacts Data'!#REF!)>20,LEN('Contacts Data'!#REF!),"") -> #REF! | D7: =IF(LEN('Contacts Data'!#REF!)>20,LEN('Contacts Data'!#REF!),"") -> #REF! | E7: =IF(LEN('Contacts Data'!#REF!)>20,LEN('Contacts Data'!#REF!),"") -> #REF! | F7: =IF(LEN('Contacts Data'!#REF!)>60,LEN('Contacts Data'!#REF!),"") -> #REF! | G7: =IF(LEN('Contacts Data'!#REF!)>128,LEN('Contacts Data'!#REF!),"") -> #REF! | H7: =IF(LEN('Contacts Data'!#REF!)>60,LEN('Contacts Data'!#REF!),"") -> #REF! | I7: =IF(LEN('Contacts Data'!#REF!)>30,LEN('Contacts Data'!#REF!),"") -> #REF! | J7: =IF(LEN('Contacts Data'!#REF!)>2,LEN('Contacts Data'!#REF!),"") -> #REF! | K7: =IF(LEN('Contacts Data'!#REF!)>16,LEN('Contacts Data'!#REF!),"") -> #REF! | L7: =IF(LEN('Contacts Data'!#REF!)>128,LEN('Contacts Data'!#REF!),"") -> #REF! | M7: =IF(LEN('Contacts Data'!#REF!)>1024,LEN('Contacts Data'!#REF!),"") -> #REF! | P7: =IF(LEN('Matter Data'!#REF!)>0,LEN('Matter Data'!#REF!)+LEN('Matter Data'!#REF!),"") -> #REF! | Q7: =IF(LEN('Matter Data'!#REF!)>80,LEN('Matter Data'!#REF!),"") -> #REF! | R7: =IF(LEN('Matter Data'!#REF!)>40,LEN('Matter Data'!#REF!),"") -> #REF! | S7: =IF(LEN('Matter Data'!#REF!)>0,CONCATENATE('Matter Data'!#REF!,'Matter Data'!#REF!,'Matter Data'!#REF!)) -> #REF! | T7: =IF(LEN('Matter Data'!#REF!)>0,COUNTIF($S$2:$S$5001,CONCATENATE('Matter Data'!#REF!,'Matter Data'!#REF!,'Matter Data'!#REF!)),0) -> #REF! | U7: =IF(LEN('Contacts Data'!#REF!)>0,'Contacts Data'!#REF!,"") -> #REF! | V7: =IF(LEN('Contacts Data'!#REF!)>0,'Contacts Data'!#REF!,"") -> #REF! | W7: =CONCATENATE(U7, " ", V7, " ", 'Contacts Data'!#REF!) -> #REF! | X7: =CONCATENATE('Matter Data'!#REF!, " ", 'Matter Data'!#REF!, " ", "Client") -> #REF! | Y7: =IFERROR(VLOOKUP(X7,$W$2:$W$5001,1,FALSE),"")
A8: =IF(LEN('Contacts Data'!#REF!)>20,LEN('Contacts Data'!#REF!),"") -> #REF! | B8: =IF(LEN('Contacts Data'!#REF!)>0, LEN('Contacts Data'!#REF!) + LEN('Contacts Data'!#REF!), "") -> #REF! | C8: =IF(LEN('Contacts Data'!#REF!)>20,LEN('Contacts Data'!#REF!),"") -> #REF! | D8: =IF(LEN('Contacts Data'!#REF!)>20,LEN('Contacts Data'!#REF!),"") -> #REF! | E8: =IF(LEN('Contacts Data'!#REF!)>20,LEN('Contacts Data'!#REF!),"") -> #REF! | F8: =IF(LEN('Contacts Data'!#REF!)>60,LEN('Contacts Data'!#REF!),"") -> #REF! | G8: =IF(LEN('Contacts Data'!#REF!)>128,LEN('Contacts Data'!#REF!),"") -> #REF! | H8: =IF(LEN('Contacts Data'!#REF!)>60,LEN('Contacts Data'!#REF!),"") -> #REF! | I8: =IF(LEN('Contacts Data'!#REF!)>30,LEN('Contacts Data'!#REF!),"") -> #REF! | J8: =IF(LEN('Contacts Data'!#REF!)>2,LEN('Contacts Data'!#REF!),"") -> #REF! | K8: =IF(LEN('Contacts Data'!#REF!)>16,LEN('Contacts Data'!#REF!),"") -> #REF! | L8: =IF(LEN('Contacts Data'!#REF!)>128,LEN('Contacts Data'!#REF!),"") -> #REF! | M8: =IF(LEN('Contacts Data'!#REF!)>1024,LEN('Contacts Data'!#REF!),"") -> #REF! | P8: =IF(LEN('Matter Data'!#REF!)>0,LEN('Matter Data'!#REF!)+LEN('Matter Data'!#REF!),"") -> #REF! | Q8: =IF(LEN('Matter Data'!#REF!)>80,LEN('Matter Data'!#REF!),"") -> #REF! | R8: =IF(LEN('Matter Data'!#REF!)>40,LEN('Matter Data'!#REF!),"") -> #REF! | S8: =IF(LEN('Matter Data'!#REF!)>0,CONCATENATE('Matter Data'!#REF!,'Matter Data'!#REF!,'Matter Data'!#REF!)) -> #REF! | T8: =IF(LEN('Matter Data'!#REF!)>0,COUNTIF($S$2:$S$5001,CONCATENATE('Matter Data'!#REF!,'Matter Data'!#REF!,'Matter Data'!#REF!)),0) -> #REF! | U8: =IF(LEN('Contacts Data'!#REF!)>0,'Contacts Data'!#REF!,"") -> #REF! | V8: =IF(LEN('Contacts Data'!#REF!)>0,'Contacts Data'!#REF!,"") -> #REF! | W8: =CONCATENATE(U8, " ", V8, " ", 'Contacts Data'!#REF!) -> #REF! | X8: =CONCATENATE('Matter Data'!#REF!, " ", 'Matter Data'!#REF!, " ", "Client") -> #REF! | Y8: =IFERROR(VLOOKUP(X8,$W$2:$W$5001,1,FALSE),"")
A9: =IF(LEN('Contacts Data'!#REF!)>20,LEN('Contacts Data'!#REF!),"") -> #REF! | B9: =IF(LEN('Contacts Data'!#REF!)>0, LEN('Contacts Data'!#REF!) + LEN('Contacts Data'!#REF!), "") -> #REF! | C9: =IF(LEN('Contacts Data'!#REF!)>20,LEN('Contacts Data'!#REF!),"") -> #REF! | D9: =IF(LEN('Contacts Data'!#REF!)>20,LEN('Contacts Data'!#REF!),"") -> #REF! | E9: =IF(LEN('Contacts Data'!#REF!)>20,LEN('Contacts Data'!#REF!),"") -> #REF! | F9: =IF(LEN('Contacts Data'!#REF!)>60,LEN('Contacts Data'!#REF!),"") -> #REF! | G9: =IF(LEN('Contacts Data'!#REF!)>128,LEN('Contacts Data'!#REF!),"") -> #REF! | H9: =IF(LEN('Contacts Data'!#REF!)>60,LEN('Contacts Data'!#REF!),"") -> #REF! | I9: =IF(LEN('Contacts Data'!#REF!)>30,LEN('Contacts Data'!#REF!),"") -> #REF! | J9: =IF(LEN('Contacts Data'!#REF!)>2,LEN('Contacts Data'!#REF!),"") -> #REF! | K9: =IF(LEN('Contacts Data'!#REF!)>16,LEN('Contacts Data'!#REF!),"") -> #REF! | L9: =IF(LEN('Contacts Data'!#REF!)>128,LEN('Contacts Data'!#REF!),"") -> #REF! | M9: =IF(LEN('Contacts Data'!#REF!)>1024,LEN('Contacts Data'!#REF!),"") -> #REF! | P9: =IF(LEN('Matter Data'!#REF!)>0,LEN('Matter Data'!#REF!)+LEN('Matter Data'!#REF!),"") -> #REF! | Q9: =IF(LEN('Matter Data'!#REF!)>80,LEN('Matter Data'!#REF!),"") -> #REF! | R9: =IF(LEN('Matter Data'!#REF!)>40,LEN('Matter Data'!#REF!),"") -> #REF! | S9: =IF(LEN('Matter Data'!#REF!)>0,CONCATENATE('Matter Data'!#REF!,'Matter Data'!#REF!,'Matter Data'!#REF!)) -> #REF! | T9: =IF(LEN('Matter Data'!#REF!)>0,COUNTIF($S$2:$S$5001,CONCATENATE('Matter Data'!#REF!,'Matter Data'!#REF!,'Matter Data'!#REF!)),0) -> #REF! | U9: =IF(LEN('Contacts Data'!#REF!)>0,'Contacts Data'!#REF!,"") -> #REF! | V9: =IF(LEN('Contacts Data'!#REF!)>0,'Contacts Data'!#REF!,"") -> #REF! | W9: =CONCATENATE(U9, " ", V9, " ", 'Contacts Data'!#REF!) -> #REF! | X9: =CONCATENATE('Matter Data'!#REF!, " ", 'Matter Data'!#REF!, " ", "Client") -> #REF! | Y9: =IFERROR(VLOOKUP(X9,$W$2:$W$5001,1,FALSE),"")
A10: =IF(LEN('Contacts Data'!#REF!)>20,LEN('Contacts Data'!#REF!),"") -> #REF! | B10: =IF(LEN('Contacts Data'!#REF!)>0, LEN('Contacts Data'!#REF!) + LEN('Contacts Data'!#REF!), "") -> #REF! | C10: =IF(LEN('Contacts Data'!#REF!)>20,LEN('Contacts Data'!#REF!),"") -> #REF! | D10: =IF(LEN('Contacts Data'!#REF!)>20,LEN('Contacts Data'!#REF!),"") -> #REF! | E10: =IF(LEN('Contacts Data'!#REF!)>20,LEN('Contacts Data'!#REF!),"") -> #REF! | F10: =IF(LEN('Contacts Data'!#REF!)>60,LEN('Contacts Data'!#REF!),"") -> #REF! | G10: =IF(LEN('Contacts Data'!#REF!)>128,LEN('Contacts Data'!#REF!),"") -> #REF! | H10: =IF(LEN('Contacts Data'!#REF!)>60,LEN('Contacts Data'!#REF!),"") -> #REF! | I10: =IF(LEN('Contacts Data'!#REF!)>30,LEN('Contacts Data'!#REF!),"") -> #REF! | J10: =IF(LEN('Contacts Data'!#REF!)>2,LEN('Contacts Data'!#REF!),"") -> #REF! | K10: =IF(LEN('Contacts Data'!#REF!)>16,LEN('Contacts Data'!#REF!),"") -> #REF! | L10: =IF(LEN('Contacts Data'!#REF!)>128,LEN('Contacts Data'!#REF!),"") -> #REF! | M10: =IF(LEN('Contacts Data'!#REF!)>1024,LEN('Contacts Data'!#REF!),"") -> #REF! | P10: =IF(LEN('Matter Data'!#REF!)>0,LEN('Matter Data'!#REF!)+LEN('Matter Data'!#REF!),"") -> #REF! | Q10: =IF(LEN('Matter Data'!#REF!)>80,LEN('Matter Data'!#REF!),"") -> #REF! | R10: =IF(LEN('Matter Data'!#REF!)>40,LEN('Matter Data'!#REF!),"") -> #REF! | S10: =IF(LEN('Matter Data'!#REF!)>0,CONCATENATE('Matter Data'!#REF!,'Matter Data'!#REF!,'Matter Data'!#REF!)) -> #REF! | T10: =IF(LEN('Matter Data'!#REF!)>0,COUNTIF($S$2:$S$5001,CONCATENATE('Matter Data'!#REF!,'Matter Data'!#REF!,'Matter Data'!#REF!)),0) -> #REF! | U10: =IF(LEN('Contacts Data'!#REF!)>0,'Contacts Data'!#REF!,"") -> #REF! | V10: =IF(LEN('Contacts Data'!#REF!)>0,'Contacts Data'!#REF!,"") -> #REF! | W10: =CONCATENATE(U10, " ", V10, " ", 'Contacts Data'!#REF!) -> #REF! | X10: =CONCATENATE('Matter Data'!#REF!, " ", 'Matter Data'!#REF!, " ", "Client") -> #REF! | Y10: =IFERROR(VLOOKUP(X10,$W$2:$W$5001,1,FALSE),"")
A11: =IF(LEN('Contacts Data'!#REF!)>20,LEN('Contacts Data'!#REF!),"") -> #REF! | B11: =IF(LEN('Contacts Data'!#REF!)>0, LEN('Contacts Data'!#REF!) + LEN('Contacts Data'!#REF!), "") -> #REF! | C11: =IF(LEN('Contacts Data'!#REF!)>20,LEN('Contacts Data'!#REF!),"") -> #REF! | D11: =IF(LEN('Contacts Data'!#REF!)>20,LEN('Contacts Data'!#REF!),"") -> #REF! | E11: =IF(LEN('Contacts Data'!#REF!)>20,LEN('Contacts Data'!#REF!),"") -> #REF! | F11: =IF(LEN('Contacts Data'!#REF!)>60,LEN('Contacts Data'!#REF!),"") -> #REF! | G11: =IF(LEN('Contacts Data'!#REF!)>128,LEN('Contacts Data'!#REF!),"") -> #REF! | H11: =IF(LEN('Contacts Data'!#REF!)>60,LEN('Contacts Data'!#REF!),"") -> #REF! | I11: =IF(LEN('Contacts Data'!#REF!)>30,LEN('Contacts Data'!#REF!),"") -> #REF! | J11: =IF(LEN('Contacts Data'!#REF!)>2,LEN('Contacts Data'!#REF!),"") -> #REF! | K11: =IF(LEN('Contacts Data'!#REF!)>16,LEN('Contacts Data'!#REF!),"") -> #REF! | L11: =IF(LEN('Contacts Data'!#REF!)>128,LEN('Contacts Data'!#REF!),"") -> #REF! | M11: =IF(LEN('Contacts Data'!#REF!)>1024,LEN('Contacts Data'!#REF!),"") -> #REF! | P11: =IF(LEN('Matter Data'!#REF!)>0,LEN('Matter Data'!#REF!)+LEN('Matter Data'!#REF!),"") -> #REF! | Q11: =IF(LEN('Matter Data'!#REF!)>80,LEN('Matter Data'!#REF!),"") -> #REF! | R11: =IF(LEN('Matter Data'!#REF!)>40,LEN('Matter Data'!#REF!),"") -> #REF! | S11: =IF(LEN('Matter Data'!#REF!)>0,CONCATENATE('Matter Data'!#REF!,'Matter Data'!#REF!,'Matter Data'!#REF!)) -> #REF! | T11: =IF(LEN('Matter Data'!#REF!)>0,COUNTIF($S$2:$S$5001,CONCATENATE('Matter Data'!#REF!,'Matter Data'!#REF!,'Matter Data'!#REF!)),0) -> #REF! | U11: =IF(LEN('Contacts Data'!#REF!)>0,'Contacts Data'!#REF!,"") -> #REF! | V11: =IF(LEN('Contacts Data'!#REF!)>0,'Contacts Data'!#REF!,"") -> #REF! | W11: =CONCATENATE(U11, " ", V11, " ", 'Contacts Data'!#REF!) -> #REF! | X11: =CONCATENATE('Matter Data'!#REF!, " ", 'Matter Data'!#REF!, " ", "Client") -> #REF! | Y11: =IFERROR(VLOOKUP(X11,$W$2:$W$5001,1,FALSE),"")
A12: =IF(LEN('Contacts Data'!#REF!)>20,LEN('Contacts Data'!#REF!),"") -> #REF! | B12: =IF(LEN('Contacts Data'!#REF!)>0, LEN('Contacts Data'!#REF!) + LEN('Contacts Data'!#REF!), "") -> #REF! | C12: =IF(LEN('Contacts Data'!#REF!)>20,LEN('Contacts Data'!#REF!),"") -> #REF! | D12: =IF(LEN('Contacts Data'!#REF!)>20,LEN('Contacts Data'!#REF!),"") -> #REF! | E12: =IF(LEN('Contacts Data'!#REF!)>20,LEN('Contacts Data'!#REF!),"") -> #REF! | F12: =IF(LEN('Contacts Data'!#REF!)>60,LEN('Contacts Data'!#REF!),"") -> #REF! | G12: =IF(LEN('Contacts Data'!#REF!)>128,LEN('Contacts Data'!#REF!),"") -> #REF! | H12: =IF(LEN('Contacts Data'!#REF!)>60,LEN('Contacts Data'!#REF!),"") -> #REF! | I12: =IF(LEN('Contacts Data'!#REF!)>30,LEN('Contacts Data'!#REF!),"") -> #REF! | J12: =IF(LEN('Contacts Data'!#REF!)>2,LEN('Contacts Data'!#REF!),"") -> #REF! | K12: =IF(LEN('Contacts Data'!#REF!)>16,LEN('Contacts Data'!#REF!),"") -> #REF! | L12: =IF(LEN('Contacts Data'!#REF!)>128,LEN('Contacts Data'!#REF!),"") -> #REF! | M12: =IF(LEN('Contacts Data'!#REF!)>1024,LEN('Contacts Data'!#REF!),"") -> #REF! | P12: =IF(LEN('Matter Data'!#REF!)>0,LEN('Matter Data'!#REF!)+LEN('Matter Data'!#REF!),"") -> #REF! | Q12: =IF(LEN('Matter Data'!#REF!)>80,LEN('Matter Data'!#REF!),"") -> #REF! | R12: =IF(LEN('Matter Data'!#REF!)>40,LEN('Matter Data'!#REF!),"") -> #REF! | S12: =IF(LEN('Matter Data'!#REF!)>0,CONCATENATE('Matter Data'!#REF!,'Matter Data'!#REF!,'Matter Data'!#REF!)) -> #REF! | T12: =IF(LEN('Matter Data'!#REF!)>0,COUNTIF($S$2:$S$5001,CONCATENATE('Matter Data'!#REF!,'Matter Data'!#REF!,'Matter Data'!#REF!)),0) -> #REF! | U12: =IF(LEN('Contacts Data'!#REF!)>0,'Contacts Data'!#REF!,"") -> #REF! | V12: =IF(LEN('Contacts Data'!#REF!)>0,'Contacts Data'!#REF!,"") -> #REF! | W12: =CONCATENATE(U12, " ", V12, " ", 'Contacts Data'!#REF!) -> #REF! | X12: =CONCATENATE('Matter Data'!#REF!, " ", 'Matter Data'!#REF!, " ", "Client") -> #REF! | Y12: =IFERROR(VLOOKUP(X12,$W$2:$W$5001,1,FALSE),"")
A13: =IF(LEN('Contacts Data'!#REF!)>20,LEN('Contacts Data'!#REF!),"") -> #REF! | B13: =IF(LEN('Contacts Data'!#REF!)>0, LEN('Contacts Data'!#REF!) + LEN('Contacts Data'!#REF!), "") -> #REF! | C13: =IF(LEN('Contacts Data'!#REF!)>20,LEN('Contacts Data'!#REF!),"") -> #REF! | D13: =IF(LEN('Contacts Data'!#REF!)>20,LEN('Contacts Data'!#REF!),"") -> #REF! | E13: =IF(LEN('Contacts Data'!#REF!)>20,LEN('Contacts Data'!#REF!),"") -> #REF! | F13: =IF(LEN('Contacts Data'!#REF!)>60,LEN('Contacts Data'!#REF!),"") -> #REF! | G13: =IF(LEN('Contacts Data'!#REF!)>128,LEN('Contacts Data'!#REF!),"") -> #REF! | H13: =IF(LEN('Contacts Data'!#REF!)>60,LEN('Contacts Data'!#REF!),"") -> #REF! | I13: =IF(LEN('Contacts Data'!#REF!)>30,LEN('Contacts Data'!#REF!),"") -> #REF! | J13: =IF(LEN('Contacts Data'!#REF!)>2,LEN('Contacts Data'!#REF!),"") -> #REF! | K13: =IF(LEN('Contacts Data'!#REF!)>16,LEN('Contacts Data'!#REF!),"") -> #REF! | L13: =IF(LEN('Contacts Data'!#REF!)>128,LEN('Contacts Data'!#REF!),"") -> #REF! | M13: =IF(LEN('Contacts Data'!#REF!)>1024,LEN('Contacts Data'!#REF!),"") -> #REF! | P13: =IF(LEN('Matter Data'!#REF!)>0,LEN('Matter Data'!#REF!)+LEN('Matter Data'!#REF!),"") -> #REF! | Q13: =IF(LEN('Matter Data'!#REF!)>80,LEN('Matter Data'!#REF!),"") -> #REF! | R13: =IF(LEN('Matter Data'!#REF!)>40,LEN('Matter Data'!#REF!),"") -> #REF! | S13: =IF(LEN('Matter Data'!#REF!)>0,CONCATENATE('Matter Data'!#REF!,'Matter Data'!#REF!,'Matter Data'!#REF!)) -> #REF! | T13: =IF(LEN('Matter Data'!#REF!)>0,COUNTIF($S$2:$S$5001,CONCATENATE('Matter Data'!#REF!,'Matter Data'!#REF!,'Matter Data'!#REF!)),0) -> #REF! | U13: =IF(LEN('Contacts Data'!#REF!)>0,'Contacts Data'!#REF!,"") -> #REF! | V13: =IF(LEN('Contacts Data'!#REF!)>0,'Contacts Data'!#REF!,"") -> #REF! | W13: =CONCATENATE(U13, " ", V13, " ", 'Contacts Data'!#REF!) -> #REF! | X13: =CONCATENATE('Matter Data'!#REF!, " ", 'Matter Data'!#REF!, " ", "Client") -> #REF! | Y13: =IFERROR(VLOOKUP(X13,$W$2:$W$5001,1,FALSE),"")
... A562: =IF(LEN('Contacts Data'!#REF!)>20,LEN('Contacts Data'!#REF!),"") -> #REF! | B562: =IF(LEN('Contacts Data'!#REF!)>0, LEN('Contacts Data'!#REF!) + LEN('Contacts Data'!#REF!), "") -> #REF! | C562: =IF(LEN('Contacts Data'!#REF!)>20,LEN('Contacts Data'!#REF!),"") -> #REF! | D562: =IF(LEN('Contacts Data'!#REF!)>20,LEN('Contacts Data'!#REF!),"") -> #REF! | E562: =IF(LEN('Contacts Data'!#REF!)>20,LEN('Contacts Data'!#REF!),"") -> #REF! | F562: =IF(LEN('Contacts Data'!#REF!)>60,LEN('Contacts Data'!#REF!),"") -> #REF! | G562: =IF(LEN('Contacts Data'!#REF!)>128,LEN('Contacts Data'!#REF!),"") -> #REF! | H562: =IF(LEN('Contacts Data'!#REF!)>60,LEN('Contacts Data'!#REF!),"") -> #REF! | I562: =IF(LEN('Contacts Data'!#REF!)>30,LEN('Contacts Data'!#REF!),"") -> #REF! | J562: =IF(LEN('Contacts Data'!#REF!)>2,LEN('Contacts Data'!#REF!),"") -> #REF! | K562: =IF(LEN('Contacts Data'!#REF!)>16,LEN('Contacts Data'!#REF!),"") -> #REF! | L562: =IF(LEN('Contacts Data'!#REF!)>128,LEN('Contacts Data'!#REF!),"") -> #REF! | M562: =IF(LEN('Contacts Data'!#REF!)>1024,LEN('Contacts Data'!#REF!),"") -> #REF! | P562: =IF(LEN('Matter Data'!#REF!)>0,LEN('Matter Data'!#REF!)+LEN('Matter Data'!#REF!),"") -> #REF! | Q562: =IF(LEN('Matter Data'!#REF!)>80,LEN('Matter Data'!#REF!),"") -> #REF! | R562: =IF(LEN('Matter Data'!#REF!)>40,LEN('Matter Data'!#REF!),"") -> #REF! | S562: =IF(LEN('Matter Data'!#REF!)>0,CONCATENATE('Matter Data'!#REF!,'Matter Data'!#REF!,'Matter Data'!#REF!)) -> #REF! | T562: =IF(LEN('Matter Data'!#REF!)>0,COUNTIF($S$2:$S$5001,CONCATENATE('Matter Data'!#REF!,'Matter Data'!#REF!,'Matter Data'!#REF!)),0) -> #REF! | U562: =IF(LEN('Contacts Data'!#REF!)>0,'Contacts Data'!#REF!,"") -> #REF! | V562: =IF(LEN('Contacts Data'!#REF!)>0,'Contacts Data'!#REF!,"") -> #REF! | W562: =CONCATENATE(U562, " ", V562, " ", 'Contacts Data'!#REF!) -> #REF! | X562: =CONCATENATE('Matter Data'!#REF!, " ", 'Matter Data'!#REF!, " ", "Client") -> #REF! | Y562: =IFERROR(VLOOKUP(X562,$W$2:$W$5001,1,FALSE),"")
A563: =IF(LEN('Contacts Data'!A2)>20,LEN('Contacts Data'!A2),"") | B563: =IF(LEN('Contacts Data'!B2)>0, LEN('Contacts Data'!B2) + LEN('Contacts Data'!C2), "") -> 13 | C563: =IF(LEN('Contacts Data'!E2)>20,LEN('Contacts Data'!E2),"") | D563: =IF(LEN('Contacts Data'!F2)>20,LEN('Contacts Data'!F2),"") | E563: =IF(LEN('Contacts Data'!G2)>20,LEN('Contacts Data'!G2),"") | F563: =IF(LEN('Contacts Data'!H2)>60,LEN('Contacts Data'!H2),"") | G563: =IF(LEN('Contacts Data'!I2)>128,LEN('Contacts Data'!I2),"") | H563: =IF(LEN('Contacts Data'!J2)>60,LEN('Contacts Data'!J2),"") | I563: =IF(LEN('Contacts Data'!K2)>30,LEN('Contacts Data'!K2),"") | J563: =IF(LEN('Contacts Data'!L2)>2,LEN('Contacts Data'!L2),"") | K563: =IF(LEN('Contacts Data'!M2)>16,LEN('Contacts Data'!M2),"") | L563: =IF(LEN('Contacts Data'!D2)>128,LEN('Contacts Data'!D2),"") | M563: =IF(LEN('Contacts Data'!O2)>1024,LEN('Contacts Data'!O2),"") | P563: =IF(LEN('Matter Data'!#REF!)>0,LEN('Matter Data'!#REF!)+LEN('Matter Data'!#REF!),"") -> #REF! | Q563: =IF(LEN('Matter Data'!#REF!)>80,LEN('Matter Data'!#REF!),"") -> #REF! | R563: =IF(LEN('Matter Data'!#REF!)>40,LEN('Matter Data'!#REF!),"") -> #REF! | S563: =IF(LEN('Matter Data'!#REF!)>0,CONCATENATE('Matter Data'!#REF!,'Matter Data'!#REF!,'Matter Data'!#REF!)) -> #REF! | T563: =IF(LEN('Matter Data'!#REF!)>0,COUNTIF($S$2:$S$5001,CONCATENATE('Matter Data'!#REF!,'Matter Data'!#REF!,'Matter Data'!#REF!)),0) -> #REF! | U563: =IF(LEN('Contacts Data'!B2)>0,'Contacts Data'!B2,"") -> Michael | V563: =IF(LEN('Contacts Data'!C2)>0,'Contacts Data'!C2,"") -> Carrey | W563: =CONCATENATE(U563, " ", V563, " ", 'Contacts Data'!$A2) -> Michael Carrey Client | X563: =CONCATENATE('Matter Data'!#REF!, " ", 'Matter Data'!#REF!, " ", "Client") -> #REF! | Y563: =IFERROR(VLOOKUP(X563,$W$2:$W$5001,1,FALSE),"")
A564: =IF(LEN('Contacts Data'!A3)>20,LEN('Contacts Data'!A3),"") | B564: =IF(LEN('Contacts Data'!B3)>0, LEN('Contacts Data'!B3) + LEN('Contacts Data'!C3), "") -> 9 | C564: =IF(LEN('Contacts Data'!E3)>20,LEN('Contacts Data'!E3),"") | D564: =IF(LEN('Contacts Data'!F3)>20,LEN('Contacts Data'!F3),"") | E564: =IF(LEN('Contacts Data'!G3)>20,LEN('Contacts Data'!G3),"") | F564: =IF(LEN('Contacts Data'!H3)>60,LEN('Contacts Data'!H3),"") | G564: =IF(LEN('Contacts Data'!I3)>128,LEN('Contacts Data'!I3),"") | H564: =IF(LEN('Contacts Data'!J3)>60,LEN('Contacts Data'!J3),"") | I564: =IF(LEN('Contacts Data'!K3)>30,LEN('Contacts Data'!K3),"") | J564: =IF(LEN('Contacts Data'!L3)>2,LEN('Contacts Data'!L3),"") | K564: =IF(LEN('Contacts Data'!M3)>16,LEN('Contacts Data'!M3),"") | L564: =IF(LEN('Contacts Data'!D3)>128,LEN('Contacts Data'!D3),"") | M564: =IF(LEN('Contacts Data'!O3)>1024,LEN('Contacts Data'!O3),"") | P564: =IF(LEN('Matter Data'!#REF!)>0,LEN('Matter Data'!#REF!)+LEN('Matter Data'!#REF!),"") -> #REF! | Q564: =IF(LEN('Matter Data'!#REF!)>80,LEN('Matter Data'!#REF!),"") -> #REF! | R564: =IF(LEN('Matter Data'!#REF!)>40,LEN('Matter Data'!#REF!),"") -> #REF! | S564: =IF(LEN('Matter Data'!#REF!)>0,CONCATENATE('Matter Data'!#REF!,'Matter Data'!#REF!,'Matter Data'!#REF!)) -> #REF! | T564: =IF(LEN('Matter Data'!#REF!)>0,COUNTIF($S$2:$S$5001,CONCATENATE('Matter Data'!#REF!,'Matter Data'!#REF!,'Matter Data'!#REF!)),0) -> #REF! | U564: =IF(LEN('Contacts Data'!B3)>0,'Contacts Data'!B3,"") -> Jane | V564: =IF(LEN('Contacts Data'!C3)>0,'Contacts Data'!C3,"") -> Smith | W564: =CONCATENATE(U564, " ", V564, " ", 'Contacts Data'!$A3) -> Jane Smith Client | X564: =CONCATENATE('Matter Data'!#REF!, " ", 'Matter Data'!#REF!, " ", "Client") -> #REF! | Y564: =IFERROR(VLOOKUP(X564,$W$2:$W$5001,1,FALSE),"")
A565: =IF(LEN('Contacts Data'!A4)>20,LEN('Contacts Data'!A4),"") | B565: =IF(LEN('Contacts Data'!B4)>0, LEN('Contacts Data'!B4) + LEN('Contacts Data'!C4), "") -> 11 | C565: =IF(LEN('Contacts Data'!E4)>20,LEN('Contacts Data'!E4),"") | D565: =IF(LEN('Contacts Data'!F4)>20,LEN('Contacts Data'!F4),"") | E565: =IF(LEN('Contacts Data'!G4)>20,LEN('Contacts Data'!G4),"") | F565: =IF(LEN('Contacts Data'!H4)>60,LEN('Contacts Data'!H4),"") | G565: =IF(LEN('Contacts Data'!I4)>128,LEN('Contacts Data'!I4),"") | H565: =IF(LEN('Contacts Data'!J4)>60,LEN('Contacts Data'!J4),"") | I565: =IF(LEN('Contacts Data'!K4)>30,LEN('Contacts Data'!K4),"") | J565: =IF(LEN('Contacts Data'!L4)>2,LEN('Contacts Data'!L4),"") | K565: =IF(LEN('Contacts Data'!M4)>16,LEN('Contacts Data'!M4),"") | L565: =IF(LEN('Contacts Data'!D4)>128,LEN('Contacts Data'!D4),"") | M565: =IF(LEN('Contacts Data'!O4)>1024,LEN('Contacts Data'!O4),"") | P565: =IF(LEN('Matter Data'!#REF!)>0,LEN('Matter Data'!#REF!)+LEN('Matter Data'!#REF!),"") -> #REF! | Q565: =IF(LEN('Matter Data'!#REF!)>80,LEN('Matter Data'!#REF!),"") -> #REF! | R565: =IF(LEN('Matter Data'!#REF!)>40,LEN('Matter Data'!#REF!),"") -> #REF! | S565: =IF(LEN('Matter Data'!#REF!)>0,CONCATENATE('Matter Data'!#REF!,'Matter Data'!#REF!,'Matter Data'!#REF!)) -> #REF! | T565: =IF(LEN('Matter Data'!#REF!)>0,COUNTIF($S$2:$S$5001,CONCATENATE('Matter Data'!#REF!,'Matter Data'!#REF!,'Matter Data'!#REF!)),0) -> #REF! | U565: =IF(LEN('Contacts Data'!B4)>0,'Contacts Data'!B4,"") -> Larry | V565: =IF(LEN('Contacts Data'!C4)>0,'Contacts Data'!C4,"") -> Taylor | W565: =CONCATENATE(U565, " ", V565, " ", 'Contacts Data'!$A4) -> Larry Taylor Opposing Counsel | X565: =CONCATENATE('Matter Data'!#REF!, " ", 'Matter Data'!#REF!, " ", "Client") -> #REF! | Y565: =IFERROR(VLOOKUP(X565,$W$2:$W$5001,1,FALSE),"")
A566: =IF(LEN('Contacts Data'!A5)>20,LEN('Contacts Data'!A5),"") | B566: =IF(LEN('Contacts Data'!B5)>0, LEN('Contacts Data'!B5) + LEN('Contacts Data'!C5), "") -> 7 | C566: =IF(LEN('Contacts Data'!E5)>20,LEN('Contacts Data'!E5),"") | D566: =IF(LEN('Contacts Data'!F5)>20,LEN('Contacts Data'!F5),"") | E566: =IF(LEN('Contacts Data'!G5)>20,LEN('Contacts Data'!G5),"") | F566: =IF(LEN('Contacts Data'!H5)>60,LEN('Contacts Data'!H5),"") | G566: =IF(LEN('Contacts Data'!I5)>128,LEN('Contacts Data'!I5),"") | H566: =IF(LEN('Contacts Data'!J5)>60,LEN('Contacts Data'!J5),"") | I566: =IF(LEN('Contacts Data'!K5)>30,LEN('Contacts Data'!K5),"") | J566: =IF(LEN('Contacts Data'!L5)>2,LEN('Contacts Data'!L5),"") | K566: =IF(LEN('Contacts Data'!M5)>16,LEN('Contacts Data'!M5),"") | L566: =IF(LEN('Contacts Data'!D5)>128,LEN('Contacts Data'!D5),"") | M566: =IF(LEN('Contacts Data'!O5)>1024,LEN('Contacts Data'!O5),"") | P566: =IF(LEN('Matter Data'!#REF!)>0,LEN('Matter Data'!#REF!)+LEN('Matter Data'!#REF!),"") -> #REF! | Q566: =IF(LEN('Matter Data'!#REF!)>80,LEN('Matter Data'!#REF!),"") -> #REF! | R566: =IF(LEN('Matter Data'!#REF!)>40,LEN('Matter Data'!#REF!),"") -> #REF! | S566: =IF(LEN('Matter Data'!#REF!)>0,CONCATENATE('Matter Data'!#REF!,'Matter Data'!#REF!,'Matter Data'!#REF!)) -> #REF! | T566: =IF(LEN('Matter Data'!#REF!)>0,COUNTIF($S$2:$S$5001,CONCATENATE('Matter Data'!#REF!,'Matter Data'!#REF!,'Matter Data'!#REF!)),0) -> #REF! | U566: =IF(LEN('Contacts Data'!B5)>0,'Contacts Data'!B5,"") -> John | V566: =IF(LEN('Contacts Data'!C5)>0,'Contacts Data'!C5,"") -> Doe | W566: =CONCATENATE(U566, " ", V566, " ", 'Contacts Data'!$A5) -> John Doe Client | X566: =CONCATENATE('Matter Data'!#REF!, " ", 'Matter Data'!#REF!, " ", "Client") -> #REF! | Y566: =IFERROR(VLOOKUP(X566,$W$2:$W$5001,1,FALSE),"")
A567: =IF(LEN('Contacts Data'!A6)>20,LEN('Contacts Data'!A6),"") | B567: =IF(LEN('Contacts Data'!B6)>0, LEN('Contacts Data'!B6) + LEN('Contacts Data'!C6), "") | C567: =IF(LEN('Contacts Data'!E6)>20,LEN('Contacts Data'!E6),"") | D567: =IF(LEN('Contacts Data'!F6)>20,LEN('Contacts Data'!F6),"") | E567: =IF(LEN('Contacts Data'!G6)>20,LEN('Contacts Data'!G6),"") | F567: =IF(LEN('Contacts Data'!H6)>60,LEN('Contacts Data'!H6),"") | G567: =IF(LEN('Contacts Data'!I6)>128,LEN('Contacts Data'!I6),"") | H567: =IF(LEN('Contacts Data'!J6)>60,LEN('Contacts Data'!J6),"") | I567: =IF(LEN('Contacts Data'!K6)>30,LEN('Contacts Data'!K6),"") | J567: =IF(LEN('Contacts Data'!L6)>2,LEN('Contacts Data'!L6),"") | K567: =IF(LEN('Contacts Data'!M6)>16,LEN('Contacts Data'!M6),"") | L567: =IF(LEN('Contacts Data'!D6)>128,LEN('Contacts Data'!D6),"") | M567: =IF(LEN('Contacts Data'!O6)>1024,LEN('Contacts Data'!O6),"") | P567: =IF(LEN('Matter Data'!#REF!)>0,LEN('Matter Data'!#REF!)+LEN('Matter Data'!#REF!),"") -> #REF! | Q567: =IF(LEN('Matter Data'!#REF!)>80,LEN('Matter Data'!#REF!),"") -> #REF! | R567: =IF(LEN('Matter Data'!#REF!)>40,LEN('Matter Data'!#REF!),"") -> #REF! | S567: =IF(LEN('Matter Data'!#REF!)>0,CONCATENATE('Matter Data'!#REF!,'Matter Data'!#REF!,'Matter Data'!#REF!)) -> #REF! | T567: =IF(LEN('Matter Data'!#REF!)>0,COUNTIF($S$2:$S$5001,CONCATENATE('Matter Data'!#REF!,'Matter Data'!#REF!,'Matter Data'!#REF!)),0) -> #REF! | U567: =IF(LEN('Contacts Data'!B6)>0,'Contacts Data'!B6,"") | V567: =IF(LEN('Contacts Data'!C6)>0,'Contacts Data'!C6,"") | W567: =CONCATENATE(U567, " ", V567, " ", 'Contacts Data'!$A6) | X567: =CONCATENATE('Matter Data'!#REF!, " ", 'Matter Data'!#REF!, " ", "Client") -> #REF! | Y567: =IFERROR(VLOOKUP(X567,$W$2:$W$5001,1,FALSE),"")
A568: =IF(LEN('Contacts Data'!A7)>20,LEN('Contacts Data'!A7),"") | B568: =IF(LEN('Contacts Data'!B7)>0, LEN('Contacts Data'!B7) + LEN('Contacts Data'!C7), "") | C568: =IF(LEN('Contacts Data'!E7)>20,LEN('Contacts Data'!E7),"") | D568: =IF(LEN('Contacts Data'!F7)>20,LEN('Contacts Data'!F7),"") | E568: =IF(LEN('Contacts Data'!G7)>20,LEN('Contacts Data'!G7),"") | F568: =IF(LEN('Contacts Data'!H7)>60,LEN('Contacts Data'!H7),"") | G568: =IF(LEN('Contacts Data'!I7)>128,LEN('Contacts Data'!I7),"") | H568: =IF(LEN('Contacts Data'!J7)>60,LEN('Contacts Data'!J7),"") | I568: =IF(LEN('Contacts Data'!K7)>30,LEN('Contacts Data'!K7),"") | J568: =IF(LEN('Contacts Data'!L7)>2,LEN('Contacts Data'!L7),"") | K568: =IF(LEN('Contacts Data'!M7)>16,LEN('Contacts Data'!M7),"") | L568: =IF(LEN('Contacts Data'!D7)>128,LEN('Contacts Data'!D7),"") | M568: =IF(LEN('Contacts Data'!O7)>1024,LEN('Contacts Data'!O7),"") | P568: =IF(LEN('Matter Data'!#REF!)>0,LEN('Matter Data'!#REF!)+LEN('Matter Data'!#REF!),"") -> #REF! | Q568: =IF(LEN('Matter Data'!#REF!)>80,LEN('Matter Data'!#REF!),"") -> #REF! | R568: =IF(LEN('Matter Data'!#REF!)>40,LEN('Matter Data'!#REF!),"") -> #REF! | S568: =IF(LEN('Matter Data'!#REF!)>0,CONCATENATE('Matter Data'!#REF!,'Matter Data'!#REF!,'Matter Data'!#REF!)) -> #REF! | T568: =IF(LEN('Matter Data'!#REF!)>0,COUNTIF($S$2:$S$5001,CONCATENATE('Matter Data'!#REF!,'Matter Data'!#REF!,'Matter Data'!#REF!)),0) -> #REF! | U568: =IF(LEN('Contacts Data'!B7)>0,'Contacts Data'!B7,"") | V568: =IF(LEN('Contacts Data'!C7)>0,'Contacts Data'!C7,"") | W568: =CONCATENATE(U568, " ", V568, " ", 'Contacts Data'!$A7) | X568: =CONCATENATE('Matter Data'!#REF!, " ", 'Matter Data'!#REF!, " ", "Client") -> #REF! | Y568: =IFERROR(VLOOKUP(X568,$W$2:$W$5001,1,FALSE),"")
A569: =IF(LEN('Contacts Data'!A8)>20,LEN('Contacts Data'!A8),"") | B569: =IF(LEN('Contacts Data'!B8)>0, LEN('Contacts Data'!B8) + LEN('Contacts Data'!C8), "") | C569: =IF(LEN('Contacts Data'!E8)>20,LEN('Contacts Data'!E8),"") | D569: =IF(LEN('Contacts Data'!F8)>20,LEN('Contacts Data'!F8),"") | E569: =IF(LEN('Contacts Data'!G8)>20,LEN('Contacts Data'!G8),"") | F569: =IF(LEN('Contacts Data'!H8)>60,LEN('Contacts Data'!H8),"") | G569: =IF(LEN('Contacts Data'!I8)>128,LEN('Contacts Data'!I8),"") | H569: =IF(LEN('Contacts Data'!J8)>60,LEN('Contacts Data'!J8),"") | I569: =IF(LEN('Contacts Data'!K8)>30,LEN('Contacts Data'!K8),"") | J569: =IF(LEN('Contacts Data'!L8)>2,LEN('Contacts Data'!L8),"") | K569: =IF(LEN('Contacts Data'!M8)>16,LEN('Contacts Data'!M8),"") | L569: =IF(LEN('Contacts Data'!D8)>128,LEN('Contacts Data'!D8),"") | M569: =IF(LEN('Contacts Data'!O8)>1024,LEN('Contacts Data'!O8),"") | P569: =IF(LEN('Matter Data'!#REF!)>0,LEN('Matter Data'!#REF!)+LEN('Matter Data'!#REF!),"") -> #REF! | Q569: =IF(LEN('Matter Data'!#REF!)>80,LEN('Matter Data'!#REF!),"") -> #REF! | R569: =IF(LEN('Matter Data'!#REF!)>40,LEN('Matter Data'!#REF!),"") -> #REF! | S569: =IF(LEN('Matter Data'!#REF!)>0,CONCATENATE('Matter Data'!#REF!,'Matter Data'!#REF!,'Matter Data'!#REF!)) -> #REF! | T569: =IF(LEN('Matter Data'!#REF!)>0,COUNTIF($S$2:$S$5001,CONCATENATE('Matter Data'!#REF!,'Matter Data'!#REF!,'Matter Data'!#REF!)),0) -> #REF! | U569: =IF(LEN('Contacts Data'!B8)>0,'Contacts Data'!B8,"") | V569: =IF(LEN('Contacts Data'!C8)>0,'Contacts Data'!C8,"") | W569: =CONCATENATE(U569, " ", V569, " ", 'Contacts Data'!$A8) | X569: =CONCATENATE('Matter Data'!#REF!, " ", 'Matter Data'!#REF!, " ", "Client") -> #REF! | Y569: =IFERROR(VLOOKUP(X569,$W$2:$W$5001,1,FALSE),"")
A570: =IF(LEN('Contacts Data'!A9)>20,LEN('Contacts Data'!A9),"") | B570: =IF(LEN('Contacts Data'!B9)>0, LEN('Contacts Data'!B9) + LEN('Contacts Data'!C9), "") | C570: =IF(LEN('Contacts Data'!E9)>20,LEN('Contacts Data'!E9),"") | D570: =IF(LEN('Contacts Data'!F9)>20,LEN('Contacts Data'!F9),"") | E570: =IF(LEN('Contacts Data'!G9)>20,LEN('Contacts Data'!G9),"") | F570: =IF(LEN('Contacts Data'!H9)>60,LEN('Contacts Data'!H9),"") | G570: =IF(LEN('Contacts Data'!I9)>128,LEN('Contacts Data'!I9),"") | H570: =IF(LEN('Contacts Data'!J9)>60,LEN('Contacts Data'!J9),"") | I570: =IF(LEN('Contacts Data'!K9)>30,LEN('Contacts Data'!K9),"") | J570: =IF(LEN('Contacts Data'!L9)>2,LEN('Contacts Data'!L9),"") | K570: =IF(LEN('Contacts Data'!M9)>16,LEN('Contacts Data'!M9),"") | L570: =IF(LEN('Contacts Data'!D9)>128,LEN('Contacts Data'!D9),"") | M570: =IF(LEN('Contacts Data'!O9)>1024,LEN('Contacts Data'!O9),"") | P570: =IF(LEN('Matter Data'!A2)>0,LEN('Matter Data'!A2)+LEN('Matter Data'!B2),"") -> 13 | Q570: =IF(LEN('Matter Data'!C2)>80,LEN('Matter Data'!C2),"") | R570: =IF(LEN('Matter Data'!H2)>40,LEN('Matter Data'!H2),"") | S570: =IF(LEN('Matter Data'!C2)>0,CONCATENATE('Matter Data'!A2,'Matter Data'!B2,'Matter Data'!C2)) -> MichaelCarreyFirst Import Matter | T570: =IF(LEN('Matter Data'!C2)>0,COUNTIF($S$2:$S$5001,CONCATENATE('Matter Data'!A2,'Matter Data'!B2,'Matter Data'!C2)),0) -> 1 | U570: =IF(LEN('Contacts Data'!B9)>0,'Contacts Data'!B9,"") | V570: =IF(LEN('Contacts Data'!C9)>0,'Contacts Data'!C9,"") | W570: =CONCATENATE(U570, " ", V570, " ", 'Contacts Data'!$A9) | X570: =CONCATENATE('Matter Data'!A2, " ", 'Matter Data'!B2, " ", "Client") -> Michael Carrey Client | Y570: =IFERROR(VLOOKUP(X570,$W$2:$W$5001,1,FALSE),"") -> Michael Carrey Client
A571: =IF(LEN('Contacts Data'!A10)>20,LEN('Contacts Data'!A10),"") | B571: =IF(LEN('Contacts Data'!B10)>0, LEN('Contacts Data'!B10) + LEN('Contacts Data'!C10), "") | C571: =IF(LEN('Contacts Data'!E10)>20,LEN('Contacts Data'!E10),"") | D571: =IF(LEN('Contacts Data'!F10)>20,LEN('Contacts Data'!F10),"") | E571: =IF(LEN('Contacts Data'!G10)>20,LEN('Contacts Data'!G10),"") | F571: =IF(LEN('Contacts Data'!H10)>60,LEN('Contacts Data'!H10),"") | G571: =IF(LEN('Contacts Data'!I10)>128,LEN('Contacts Data'!I10),"") | H571: =IF(LEN('Contacts Data'!J10)>60,LEN('Contacts Data'!J10),"") | I571: =IF(LEN('Contacts Data'!K10)>30,LEN('Contacts Data'!K10),"") | J571: =IF(LEN('Contacts Data'!L10)>2,LEN('Contacts Data'!L10),"") | K571: =IF(LEN('Contacts Data'!M10)>16,LEN('Contacts Data'!M10),"") | L571: =IF(LEN('Contacts Data'!D10)>128,LEN('Contacts Data'!D10),"") | M571: =IF(LEN('Contacts Data'!O10)>1024,LEN('Contacts Data'!O10),"") | P571: =IF(LEN('Matter Data'!A3)>0,LEN('Matter Data'!A3)+LEN('Matter Data'!B3),"") -> 9 | Q571: =IF(LEN('Matter Data'!C3)>80,LEN('Matter Data'!C3),"") | R571: =IF(LEN('Matter Data'!H3)>40,LEN('Matter Data'!H3),"") | S571: =IF(LEN('Matter Data'!C3)>0,CONCATENATE('Matter Data'!A3,'Matter Data'!B3,'Matter Data'!C3)) -> JaneSmithSecond Import Matter | T571: =IF(LEN('Matter Data'!C3)>0,COUNTIF($S$2:$S$5001,CONCATENATE('Matter Data'!A3,'Matter Data'!B3,'Matter Data'!C3)),0) -> 1 | U571: =IF(LEN('Contacts Data'!B10)>0,'Contacts Data'!B10,"") | V571: =IF(LEN('Contacts Data'!C10)>0,'Contacts Data'!C10,"") | W571: =CONCATENATE(U571, " ", V571, " ", 'Contacts Data'!$A10) | X571: =CONCATENATE('Matter Data'!A3, " ", 'Matter Data'!B3, " ", "Client") -> Jane Smith Client | Y571: =IFERROR(VLOOKUP(X571,$W$2:$W$5001,1,FALSE),"") -> Jane Smith Client
A572: =IF(LEN('Contacts Data'!A11)>20,LEN('Contacts Data'!A11),"") | B572: =IF(LEN('Contacts Data'!B11)>0, LEN('Contacts Data'!B11) + LEN('Contacts Data'!C11), "") | C572: =IF(LEN('Contacts Data'!E11)>20,LEN('Contacts Data'!E11),"") | D572: =IF(LEN('Contacts Data'!F11)>20,LEN('Contacts Data'!F11),"") | E572: =IF(LEN('Contacts Data'!G11)>20,LEN('Contacts Data'!G11),"") | F572: =IF(LEN('Contacts Data'!H11)>60,LEN('Contacts Data'!H11),"") | G572: =IF(LEN('Contacts Data'!I11)>128,LEN('Contacts Data'!I11),"") | H572: =IF(LEN('Contacts Data'!J11)>60,LEN('Contacts Data'!J11),"") | I572: =IF(LEN('Contacts Data'!K11)>30,LEN('Contacts Data'!K11),"") | J572: =IF(LEN('Contacts Data'!L11)>2,LEN('Contacts Data'!L11),"") | K572: =IF(LEN('Contacts Data'!M11)>16,LEN('Contacts Data'!M11),"") | L572: =IF(LEN('Contacts Data'!D11)>128,LEN('Contacts Data'!D11),"") | M572: =IF(LEN('Contacts Data'!O11)>1024,LEN('Contacts Data'!O11),"") | P572: =IF(LEN('Matter Data'!A4)>0,LEN('Matter Data'!A4)+LEN('Matter Data'!B4),"") -> 7 | Q572: =IF(LEN('Matter Data'!C4)>80,LEN('Matter Data'!C4),"") | R572: =IF(LEN('Matter Data'!H4)>40,LEN('Matter Data'!H4),"") | S572: =IF(LEN('Matter Data'!C4)>0,CONCATENATE('Matter Data'!A4,'Matter Data'!B4,'Matter Data'!C4)) -> JohnDoeThird Import Matter | T572: =IF(LEN('Matter Data'!C4)>0,COUNTIF($S$2:$S$5001,CONCATENATE('Matter Data'!A4,'Matter Data'!B4,'Matter Data'!C4)),0) -> 1 | U572: =IF(LEN('Contacts Data'!B11)>0,'Contacts Data'!B11,"") | V572: =IF(LEN('Contacts Data'!C11)>0,'Contacts Data'!C11,"") | W572: =CONCATENATE(U572, " ", V572, " ", 'Contacts Data'!$A11) | X572: =CONCATENATE('Matter Data'!A4, " ", 'Matter Data'!B4, " ", "Client") -> John Doe Client | Y572: =IFERROR(VLOOKUP(X572,$W$2:$W$5001,1,FALSE),"") -> John Doe Client
A573: =IF(LEN('Contacts Data'!A12)>20,LEN('Contacts Data'!A12),"") | B573: =IF(LEN('Contacts Data'!B12)>0, LEN('Contacts Data'!B12) + LEN('Contacts Data'!C12), "") | C573: =IF(LEN('Contacts Data'!E12)>20,LEN('Contacts Data'!E12),"") | D573: =IF(LEN('Contacts Data'!F12)>20,LEN('Contacts Data'!F12),"") | E573: =IF(LEN('Contacts Data'!G12)>20,LEN('Contacts Data'!G12),"") | F573: =IF(LEN('Contacts Data'!H12)>60,LEN('Contacts Data'!H12),"") | G573: =IF(LEN('Contacts Data'!I12)>128,LEN('Contacts Data'!I12),"") | H573: =IF(LEN('Contacts Data'!J12)>60,LEN('Contacts Data'!J12),"") | I573: =IF(LEN('Contacts Data'!K12)>30,LEN('Contacts Data'!K12),"") | J573: =IF(LEN('Contacts Data'!L12)>2,LEN('Contacts Data'!L12),"") | K573: =IF(LEN('Contacts Data'!M12)>16,LEN('Contacts Data'!M12),"") | L573: =IF(LEN('Contacts Data'!D12)>128,LEN('Contacts Data'!D12),"") | M573: =IF(LEN('Contacts Data'!O12)>1024,LEN('Contacts Data'!O12),"") | P573: =IF(LEN('Matter Data'!A5)>0,LEN('Matter Data'!A5)+LEN('Matter Data'!B5),"") | Q573: =IF(LEN('Matter Data'!C5)>80,LEN('Matter Data'!C5),"") | R573: =IF(LEN('Matter Data'!H5)>40,LEN('Matter Data'!H5),"") | S573: =IF(LEN('Matter Data'!C5)>0,CONCATENATE('Matter Data'!A5,'Matter Data'!B5,'Matter Data'!C5)) -> FALSE | T573: =IF(LEN('Matter Data'!C5)>0,COUNTIF($S$2:$S$5001,CONCATENATE('Matter Data'!A5,'Matter Data'!B5,'Matter Data'!C5)),0) -> 0 | U573: =IF(LEN('Contacts Data'!B12)>0,'Contacts Data'!B12,"") | V573: =IF(LEN('Contacts Data'!C12)>0,'Contacts Data'!C12,"") | W573: =CONCATENATE(U573, " ", V573, " ", 'Contacts Data'!$A12) | X573: =CONCATENATE('Matter Data'!A5, " ", 'Matter Data'!B5, " ", "Client") -> Client | Y573: =IFERROR(VLOOKUP(X573,$W$2:$W$5001,1,FALSE),"")
A574: =IF(LEN('Contacts Data'!A13)>20,LEN('Contacts Data'!A13),"") | B574: =IF(LEN('Contacts Data'!B13)>0, LEN('Contacts Data'!B13) + LEN('Contacts Data'!C13), "") | C574: =IF(LEN('Contacts Data'!E13)>20,LEN('Contacts Data'!E13),"") | D574: =IF(LEN('Contacts Data'!F13)>20,LEN('Contacts Data'!F13),"") | E574: =IF(LEN('Contacts Data'!G13)>20,LEN('Contacts Data'!G13),"") | F574: =IF(LEN('Contacts Data'!H13)>60,LEN('Contacts Data'!H13),"") | G574: =IF(LEN('Contacts Data'!I13)>128,LEN('Contacts Data'!I13),"") | H574: =IF(LEN('Contacts Data'!J13)>60,LEN('Contacts Data'!J13),"") | I574: =IF(LEN('Contacts Data'!K13)>30,LEN('Contacts Data'!K13),"") | J574: =IF(LEN('Contacts Data'!L13)>2,LEN('Contacts Data'!L13),"") | K574: =IF(LEN('Contacts Data'!M13)>16,LEN('Contacts Data'!M13),"") | L574: =IF(LEN('Contacts Data'!D13)>128,LEN('Contacts Data'!D13),"") | M574: =IF(LEN('Contacts Data'!O13)>1024,LEN('Contacts Data'!O13),"") | P574: =IF(LEN('Matter Data'!A6)>0,LEN('Matter Data'!A6)+LEN('Matter Data'!B6),"") | Q574: =IF(LEN('Matter Data'!C6)>80,LEN('Matter Data'!C6),"") | R574: =IF(LEN('Matter Data'!H6)>40,LEN('Matter Data'!H6),"") | S574: =IF(LEN('Matter Data'!C6)>0,CONCATENATE('Matter Data'!A6,'Matter Data'!B6,'Matter Data'!C6)) -> FALSE | T574: =IF(LEN('Matter Data'!C6)>0,COUNTIF($S$2:$S$5001,CONCATENATE('Matter Data'!A6,'Matter Data'!B6,'Matter Data'!C6)),0) -> 0 | U574: =IF(LEN('Contacts Data'!B13)>0,'Contacts Data'!B13,"") | V574: =IF(LEN('Contacts Data'!C13)>0,'Contacts Data'!C13,"") | W574: =CONCATENATE(U574, " ", V574, " ", 'Contacts Data'!$A13) | X574: =CONCATENATE('Matter Data'!A6, " ", 'Matter Data'!B6, " ", "Client") -> Client | Y574: =IFERROR(VLOOKUP(X574,$W$2:$W$5001,1,FALSE),"")
A575: =IF(LEN('Contacts Data'!A14)>20,LEN('Contacts Data'!A14),"") | B575: =IF(LEN('Contacts Data'!B14)>0, LEN('Contacts Data'!B14) + LEN('Contacts Data'!C14), "") | C575: =IF(LEN('Contacts Data'!E14)>20,LEN('Contacts Data'!E14),"") | D575: =IF(LEN('Contacts Data'!F14)>20,LEN('Contacts Data'!F14),"") | E575: =IF(LEN('Contacts Data'!G14)>20,LEN('Contacts Data'!G14),"") | F575: =IF(LEN('Contacts Data'!H14)>60,LEN('Contacts Data'!H14),"") | G575: =IF(LEN('Contacts Data'!I14)>128,LEN('Contacts Data'!I14),"") | H575: =IF(LEN('Contacts Data'!J14)>60,LEN('Contacts Data'!J14),"") | I575: =IF(LEN('Contacts Data'!K14)>30,LEN('Contacts Data'!K14),"") | J575: =IF(LEN('Contacts Data'!L14)>2,LEN('Contacts Data'!L14),"") | K575: =IF(LEN('Contacts Data'!M14)>16,LEN('Contacts Data'!M14),"") | L575: =IF(LEN('Contacts Data'!D14)>128,LEN('Contacts Data'!D14),"") | M575: =IF(LEN('Contacts Data'!O14)>1024,LEN('Contacts Data'!O14),"") | P575: =IF(LEN('Matter Data'!A7)>0,LEN('Matter Data'!A7)+LEN('Matter Data'!B7),"") | Q575: =IF(LEN('Matter Data'!C7)>80,LEN('Matter Data'!C7),"") | R575: =IF(LEN('Matter Data'!H7)>40,LEN('Matter Data'!H7),"") | S575: =IF(LEN('Matter Data'!C7)>0,CONCATENATE('Matter Data'!A7,'Matter Data'!B7,'Matter Data'!C7)) -> FALSE | T575: =IF(LEN('Matter Data'!C7)>0,COUNTIF($S$2:$S$5001,CONCATENATE('Matter Data'!A7,'Matter Data'!B7,'Matter Data'!C7)),0) -> 0 | U575: =IF(LEN('Contacts Data'!B14)>0,'Contacts Data'!B14,"") | V575: =IF(LEN('Contacts Data'!C14)>0,'Contacts Data'!C14,"") | W575: =CONCATENATE(U575, " ", V575, " ", 'Contacts Data'!$A14) | X575: =CONCATENATE('Matter Data'!A7, " ", 'Matter Data'!B7, " ", "Client") -> Client | Y575: =IFERROR(VLOOKUP(X575,$W$2:$W$5001,1,FALSE),"")
A576: =IF(LEN('Contacts Data'!A15)>20,LEN('Contacts Data'!A15),"") | B576: =IF(LEN('Contacts Data'!B15)>0, LEN('Contacts Data'!B15) + LEN('Contacts Data'!C15), "") | C576: =IF(LEN('Contacts Data'!E15)>20,LEN('Contacts Data'!E15),"") | D576: =IF(LEN('Contacts Data'!F15)>20,LEN('Contacts Data'!F15),"") | E576: =IF(LEN('Contacts Data'!G15)>20,LEN('Contacts Data'!G15),"") | F576: =IF(LEN('Contacts Data'!H15)>60,LEN('Contacts Data'!H15),"") | G576: =IF(LEN('Contacts Data'!I15)>128,LEN('Contacts Data'!I15),"") | H576: =IF(LEN('Contacts Data'!J15)>60,LEN('Contacts Data'!J15),"") | I576: =IF(LEN('Contacts Data'!K15)>30,LEN('Contacts Data'!K15),"") | J576: =IF(LEN('Contacts Data'!L15)>2,LEN('Contacts Data'!L15),"") | K576: =IF(LEN('Contacts Data'!M15)>16,LEN('Contacts Data'!M15),"") | L576: =IF(LEN('Contacts Data'!D15)>128,LEN('Contacts Data'!D15),"") | M576: =IF(LEN('Contacts Data'!O15)>1024,LEN('Contacts Data'!O15),"") | P576: =IF(LEN('Matter Data'!A8)>0,LEN('Matter Data'!A8)+LEN('Matter Data'!B8),"") | Q576: =IF(LEN('Matter Data'!C8)>80,LEN('Matter Data'!C8),"") | R576: =IF(LEN('Matter Data'!H8)>40,LEN('Matter Data'!H8),"") | S576: =IF(LEN('Matter Data'!C8)>0,CONCATENATE('Matter Data'!A8,'Matter Data'!B8,'Matter Data'!C8)) -> FALSE | T576: =IF(LEN('Matter Data'!C8)>0,COUNTIF($S$2:$S$5001,CONCATENATE('Matter Data'!A8,'Matter Data'!B8,'Matter Data'!C8)),0) -> 0 | U576: =IF(LEN('Contacts Data'!B15)>0,'Contacts Data'!B15,"") | V576: =IF(LEN('Contacts Data'!C15)>0,'Contacts Data'!C15,"") | W576: =CONCATENATE(U576, " ", V576, " ", 'Contacts Data'!$A15) | X576: =CONCATENATE('Matter Data'!A8, " ", 'Matter Data'!B8, " ", "Client") -> Client | Y576: =IFERROR(VLOOKUP(X576,$W$2:$W$5001,1,FALSE),"")
A577: =IF(LEN('Contacts Data'!A16)>20,LEN('Contacts Data'!A16),"") | B577: =IF(LEN('Contacts Data'!B16)>0, LEN('Contacts Data'!B16) + LEN('Contacts Data'!C16), "") | C577: =IF(LEN('Contacts Data'!E16)>20,LEN('Contacts Data'!E16),"") | D577: =IF(LEN('Contacts Data'!F16)>20,LEN('Contacts Data'!F16),"") | E577: =IF(LEN('Contacts Data'!G16)>20,LEN('Contacts Data'!G16),"") | F577: =IF(LEN('Contacts Data'!H16)>60,LEN('Contacts Data'!H16),"") | G577: =IF(LEN('Contacts Data'!I16)>128,LEN('Contacts Data'!I16),"") | H577: =IF(LEN('Contacts Data'!J16)>60,LEN('Contacts Data'!J16),"") | I577: =IF(LEN('Contacts Data'!K16)>30,LEN('Contacts Data'!K16),"") | J577: =IF(LEN('Contacts Data'!L16)>2,LEN('Contacts Data'!L16),"") | K577: =IF(LEN('Contacts Data'!M16)>16,LEN('Contacts Data'!M16),"") | L577: =IF(LEN('Contacts Data'!D16)>128,LEN('Contacts Data'!D16),"") | M577: =IF(LEN('Contacts Data'!O16)>1024,LEN('Contacts Data'!O16),"") | P577: =IF(LEN('Matter Data'!A9)>0,LEN('Matter Data'!A9)+LEN('Matter Data'!B9),"") | Q577: =IF(LEN('Matter Data'!C9)>80,LEN('Matter Data'!C9),"") | R577: =IF(LEN('Matter Data'!H9)>40,LEN('Matter Data'!H9),"") | S577: =IF(LEN('Matter Data'!C9)>0,CONCATENATE('Matter Data'!A9,'Matter Data'!B9,'Matter Data'!C9)) -> FALSE | T577: =IF(LEN('Matter Data'!C9)>0,COUNTIF($S$2:$S$5001,CONCATENATE('Matter Data'!A9,'Matter Data'!B9,'Matter Data'!C9)),0) -> 0 | U577: =IF(LEN('Contacts Data'!B16)>0,'Contacts Data'!B16,"") | V577: =IF(LEN('Contacts Data'!C16)>0,'Contacts Data'!C16,"") | W577: =CONCATENATE(U577, " ", V577, " ", 'Contacts Data'!$A16) | X577: =CONCATENATE('Matter Data'!A9, " ", 'Matter Data'!B9, " ", "Client") -> Client | Y577: =IFERROR(VLOOKUP(X577,$W$2:$W$5001,1,FALSE),"")
A578: =IF(LEN('Contacts Data'!A17)>20,LEN('Contacts Data'!A17),"") | B578: =IF(LEN('Contacts Data'!B17)>0, LEN('Contacts Data'!B17) + LEN('Contacts Data'!C17), "") | C578: =IF(LEN('Contacts Data'!E17)>20,LEN('Contacts Data'!E17),"") | D578: =IF(LEN('Contacts Data'!F17)>20,LEN('Contacts Data'!F17),"") | E578: =IF(LEN('Contacts Data'!G17)>20,LEN('Contacts Data'!G17),"") | F578: =IF(LEN('Contacts Data'!H17)>60,LEN('Contacts Data'!H17),"") | G578: =IF(LEN('Contacts Data'!I17)>128,LEN('Contacts Data'!I17),"") | H578: =IF(LEN('Contacts Data'!J17)>60,LEN('Contacts Data'!J17),"") | I578: =IF(LEN('Contacts Data'!K17)>30,LEN('Contacts Data'!K17),"") | J578: =IF(LEN('Contacts Data'!L17)>2,LEN('Contacts Data'!L17),"") | K578: =IF(LEN('Contacts Data'!M17)>16,LEN('Contacts Data'!M17),"") | L578: =IF(LEN('Contacts Data'!D17)>128,LEN('Contacts Data'!D17),"") | M578: =IF(LEN('Contacts Data'!O17)>1024,LEN('Contacts Data'!O17),"") | P578: =IF(LEN('Matter Data'!A10)>0,LEN('Matter Data'!A10)+LEN('Matter Data'!B10),"") | Q578: =IF(LEN('Matter Data'!C10)>80,LEN('Matter Data'!C10),"") | R578: =IF(LEN('Matter Data'!H10)>40,LEN('Matter Data'!H10),"") | S578: =IF(LEN('Matter Data'!C10)>0,CONCATENATE('Matter Data'!A10,'Matter Data'!B10,'Matter Data'!C10)) -> FALSE | T578: =IF(LEN('Matter Data'!C10)>0,COUNTIF($S$2:$S$5001,CONCATENATE('Matter Data'!A10,'Matter Data'!B10,'Matter Data'!C10)),0) -> 0 | U578: =IF(LEN('Contacts Data'!B17)>0,'Contacts Data'!B17,"") | V578: =IF(LEN('Contacts Data'!C17)>0,'Contacts Data'!C17,"") | W578: =CONCATENATE(U578, " ", V578, " ", 'Contacts Data'!$A17) | X578: =CONCATENATE('Matter Data'!A10, " ", 'Matter Data'!B10, " ", "Client") -> Client | Y578: =IFERROR(VLOOKUP(X578,$W$2:$W$5001,1,FALSE),"")
A579: =IF(LEN('Contacts Data'!A18)>20,LEN('Contacts Data'!A18),"") | B579: =IF(LEN('Contacts Data'!B18)>0, LEN('Contacts Data'!B18) + LEN('Contacts Data'!C18), "") | C579: =IF(LEN('Contacts Data'!E18)>20,LEN('Contacts Data'!E18),"") | D579: =IF(LEN('Contacts Data'!F18)>20,LEN('Contacts Data'!F18),"") | E579: =IF(LEN('Contacts Data'!G18)>20,LEN('Contacts Data'!G18),"") | F579: =IF(LEN('Contacts Data'!H18)>60,LEN('Contacts Data'!H18),"") | G579: =IF(LEN('Contacts Data'!I18)>128,LEN('Contacts Data'!I18),"") | H579: =IF(LEN('Contacts Data'!J18)>60,LEN('Contacts Data'!J18),"") | I579: =IF(LEN('Contacts Data'!K18)>30,LEN('Contacts Data'!K18),"") | J579: =IF(LEN('Contacts Data'!L18)>2,LEN('Contacts Data'!L18),"") | K579: =IF(LEN('Contacts Data'!M18)>16,LEN('Contacts Data'!M18),"") | L579: =IF(LEN('Contacts Data'!D18)>128,LEN('Contacts Data'!D18),"") | M579: =IF(LEN('Contacts Data'!O18)>1024,LEN('Contacts Data'!O18),"") | P579: =IF(LEN('Matter Data'!A11)>0,LEN('Matter Data'!A11)+LEN('Matter Data'!B11),"") | Q579: =IF(LEN('Matter Data'!C11)>80,LEN('Matter Data'!C11),"") | R579: =IF(LEN('Matter Data'!H11)>40,LEN('Matter Data'!H11),"") | S579: =IF(LEN('Matter Data'!C11)>0,CONCATENATE('Matter Data'!A11,'Matter Data'!B11,'Matter Data'!C11)) -> FALSE | T579: =IF(LEN('Matter Data'!C11)>0,COUNTIF($S$2:$S$5001,CONCATENATE('Matter Data'!A11,'Matter Data'!B11,'Matter Data'!C11)),0) -> 0 | U579: =IF(LEN('Contacts Data'!B18)>0,'Contacts Data'!B18,"") | V579: =IF(LEN('Contacts Data'!C18)>0,'Contacts Data'!C18,"") | W579: =CONCATENATE(U579, " ", V579, " ", 'Contacts Data'!$A18) | X579: =CONCATENATE('Matter Data'!A11, " ", 'Matter Data'!B11, " ", "Client") -> Client | Y579: =IFERROR(VLOOKUP(X579,$W$2:$W$5001,1,FALSE),"")
A580: =IF(LEN('Contacts Data'!A19)>20,LEN('Contacts Data'!A19),"") | B580: =IF(LEN('Contacts Data'!B19)>0, LEN('Contacts Data'!B19) + LEN('Contacts Data'!C19), "") | C580: =IF(LEN('Contacts Data'!E19)>20,LEN('Contacts Data'!E19),"") | D580: =IF(LEN('Contacts Data'!F19)>20,LEN('Contacts Data'!F19),"") | E580: =IF(LEN('Contacts Data'!G19)>20,LEN('Contacts Data'!G19),"") | F580: =IF(LEN('Contacts Data'!H19)>60,LEN('Contacts Data'!H19),"") | G580: =IF(LEN('Contacts Data'!I19)>128,LEN('Contacts Data'!I19),"") | H580: =IF(LEN('Contacts Data'!J19)>60,LEN('Contacts Data'!J19),"") | I580: =IF(LEN('Contacts Data'!K19)>30,LEN('Contacts Data'!K19),"") | J580: =IF(LEN('Contacts Data'!L19)>2,LEN('Contacts Data'!L19),"") | K580: =IF(LEN('Contacts Data'!M19)>16,LEN('Contacts Data'!M19),"") | L580: =IF(LEN('Contacts Data'!D19)>128,LEN('Contacts Data'!D19),"") | M580: =IF(LEN('Contacts Data'!O19)>1024,LEN('Contacts Data'!O19),"") | P580: =IF(LEN('Matter Data'!A12)>0,LEN('Matter Data'!A12)+LEN('Matter Data'!B12),"") | Q580: =IF(LEN('Matter Data'!C12)>80,LEN('Matter Data'!C12),"") | R580: =IF(LEN('Matter Data'!H12)>40,LEN('Matter Data'!H12),"") | S580: =IF(LEN('Matter Data'!C12)>0,CONCATENATE('Matter Data'!A12,'Matter Data'!B12,'Matter Data'!C12)) -> FALSE | T580: =IF(LEN('Matter Data'!C12)>0,COUNTIF($S$2:$S$5001,CONCATENATE('Matter Data'!A12,'Matter Data'!B12,'Matter Data'!C12)),0) -> 0 | U580: =IF(LEN('Contacts Data'!B19)>0,'Contacts Data'!B19,"") | V580: =IF(LEN('Contacts Data'!C19)>0,'Contacts Data'!C19,"") | W580: =CONCATENATE(U580, " ", V580, " ", 'Contacts Data'!$A19) | X580: =CONCATENATE('Matter Data'!A12, " ", 'Matter Data'!B12, " ", "Client") -> Client | Y580: =IFERROR(VLOOKUP(X580,$W$2:$W$5001,1,FALSE),"")
A581: =IF(LEN('Contacts Data'!A20)>20,LEN('Contacts Data'!A20),"") | B581: =IF(LEN('Contacts Data'!B20)>0, LEN('Contacts Data'!B20) + LEN('Contacts Data'!C20), "") | C581: =IF(LEN('Contacts Data'!E20)>20,LEN('Contacts Data'!E20),"") | D581: =IF(LEN('Contacts Data'!F20)>20,LEN('Contacts Data'!F20),"") | E581: =IF(LEN('Contacts Data'!G20)>20,LEN('Contacts Data'!G20),"") | F581: =IF(LEN('Contacts Data'!H20)>60,LEN('Contacts Data'!H20),"") | G581: =IF(LEN('Contacts Data'!I20)>128,LEN('Contacts Data'!I20),"") | H581: =IF(LEN('Contacts Data'!J20)>60,LEN('Contacts Data'!J20),"") | I581: =IF(LEN('Contacts Data'!K20)>30,LEN('Contacts Data'!K20),"") | J581: =IF(LEN('Contacts Data'!L20)>2,LEN('Contacts Data'!L20),"") | K581: =IF(LEN('Contacts Data'!M20)>16,LEN('Contacts Data'!M20),"") | L581: =IF(LEN('Contacts Data'!D20)>128,LEN('Contacts Data'!D20),"") | M581: =IF(LEN('Contacts Data'!O20)>1024,LEN('Contacts Data'!O20),"") | P581: =IF(LEN('Matter Data'!A13)>0,LEN('Matter Data'!A13)+LEN('Matter Data'!B13),"") | Q581: =IF(LEN('Matter Data'!C13)>80,LEN('Matter Data'!C13),"") | R581: =IF(LEN('Matter Data'!H13)>40,LEN('Matter Data'!H13),"") | S581: =IF(LEN('Matter Data'!C13)>0,CONCATENATE('Matter Data'!A13,'Matter Data'!B13,'Matter Data'!C13)) -> FALSE | T581: =IF(LEN('Matter Data'!C13)>0,COUNTIF($S$2:$S$5001,CONCATENATE('Matter Data'!A13,'Matter Data'!B13,'Matter Data'!C13)),0) -> 0 | U581: =IF(LEN('Contacts Data'!B20)>0,'Contacts Data'!B20,"") | V581: =IF(LEN('Contacts Data'!C20)>0,'Contacts Data'!C20,"") | W581: =CONCATENATE(U581, " ", V581, " ", 'Contacts Data'!$A20) | X581: =CONCATENATE('Matter Data'!A13, " ", 'Matter Data'!B13, " ", "Client") -> Client | Y581: =IFERROR(VLOOKUP(X581,$W$2:$W$5001,1,FALSE),"")
... A5001: =IF(LEN('Contacts Data'!A4440)>20,LEN('Contacts Data'!A4440),"") | B5001: =IF(LEN('Contacts Data'!B4440)>0, LEN('Contacts Data'!B4440) + LEN('Contacts Data'!C4440), "") | C5001: =IF(LEN('Contacts Data'!E4440)>20,LEN('Contacts Data'!E4440),"") | D5001: =IF(LEN('Contacts Data'!F4440)>20,LEN('Contacts Data'!F4440),"") | E5001: =IF(LEN('Contacts Data'!G4440)>20,LEN('Contacts Data'!G4440),"") | F5001: =IF(LEN('Contacts Data'!H4440)>60,LEN('Contacts Data'!H4440),"") | G5001: =IF(LEN('Contacts Data'!I4440)>128,LEN('Contacts Data'!I4440),"") | H5001: =IF(LEN('Contacts Data'!J4440)>60,LEN('Contacts Data'!J4440),"") | I5001: =IF(LEN('Contacts Data'!K4440)>30,LEN('Contacts Data'!K4440),"") | J5001: =IF(LEN('Contacts Data'!L4440)>2,LEN('Contacts Data'!L4440),"") | K5001: =IF(LEN('Contacts Data'!M4440)>16,LEN('Contacts Data'!M4440),"") | L5001: =IF(LEN('Contacts Data'!D4440)>128,LEN('Contacts Data'!D4440),"") | M5001: =IF(LEN('Contacts Data'!O4440)>1024,LEN('Contacts Data'!O4440),"") | P5001: =IF(LEN('Matter Data'!A4433)>0,LEN('Matter Data'!A4433)+LEN('Matter Data'!B4433),"") | Q5001: =IF(LEN('Matter Data'!C4433)>80,LEN('Matter Data'!C4433),"") | R5001: =IF(LEN('Matter Data'!H4433)>40,LEN('Matter Data'!H4433),"") | S5001: =IF(LEN('Matter Data'!C4433)>0,CONCATENATE('Matter Data'!A4433,'Matter Data'!B4433,'Matter Data'!C4433)) -> FALSE | T5001: =IF(LEN('Matter Data'!C4433)>0,COUNTIF($S$2:$S$5001,CONCATENATE('Matter Data'!A4433,'Matter Data'!B4433,'Matter Data'!C4433)),0) -> 0 | U5001: =IF(LEN('Contacts Data'!B4440)>0,'Contacts Data'!B4440,"") | V5001: =IF(LEN('Contacts Data'!C4440)>0,'Contacts Data'!C4440,"") | W5001: =CONCATENATE(U5001, " ", V5001, " ", 'Contacts Data'!$A4440) | X5001: =CONCATENATE('Matter Data'!A4433, " ", 'Matter Data'!B4433, " ", "Client") -> Client | Y5001: =IFERROR(VLOOKUP(X5001,$W$2:$W$5001,1,FALSE),"")

Sheet List
B1: Billing Method | E1: Contact Type
B2: Hourly | E2: Client
B3: Fixed Fee | E3: Adversary
B4: Contingency | E4: Colleague
E5: Employee
E6: Expert Witness
E7: Friend
E8: Key Contact
E9: Opposing Counsel
E10: Personal
E11: Potential Client
E12: Suppler
E13: Vendor
